BEGIN:VCALENDAR
VERSION:2.0
PRODID:-//Pölling - ECPv6.15.14//NONSGML v1.0//EN
CALSCALE:GREGORIAN
METHOD:PUBLISH
X-WR-CALNAME:Pölling
X-ORIGINAL-URL:https://poelling.bayern
X-WR-CALDESC:Veranstaltungen für Pölling
REFRESH-INTERVAL;VALUE=DURATION:PT1H
X-Robots-Tag:noindex
X-PUBLISHED-TTL:PT1H
BEGIN:VTIMEZONE
TZID:Europe/Berlin
BEGIN:DAYLIGHT
TZOFFSETFROM:+0100
TZOFFSETTO:+0200
TZNAME:CEST
DTSTART:20220327T010000
END:DAYLIGHT
BEGIN:STANDARD
TZOFFSETFROM:+0200
TZOFFSETTO:+0100
TZNAME:CET
DTSTART:20221030T010000
END:STANDARD
BEGIN:DAYLIGHT
TZOFFSETFROM:+0100
TZOFFSETTO:+0200
TZNAME:CEST
DTSTART:20230326T010000
END:DAYLIGHT
BEGIN:STANDARD
TZOFFSETFROM:+0200
TZOFFSETTO:+0100
TZNAME:CET
DTSTART:20231029T010000
END:STANDARD
BEGIN:DAYLIGHT
TZOFFSETFROM:+0100
TZOFFSETTO:+0200
TZNAME:CEST
DTSTART:20240331T010000
END:DAYLIGHT
BEGIN:STANDARD
TZOFFSETFROM:+0200
TZOFFSETTO:+0100
TZNAME:CET
DTSTART:20241027T010000
END:STANDARD
END:VTIMEZONE
BEGIN:VEVENT
DTSTART;TZID=Europe/Berlin:20230312T143000
DTEND;TZID=Europe/Berlin:20230312T143000
DTSTAMP:20260423T213854
CREATED:20230227T013008Z
LAST-MODIFIED:20230227T013008Z
UID:1447-1678631400-1678631400@poelling.bayern
SUMMARY:Jahreshauptversammlung\, OGV Pölling
DESCRIPTION:
URL:https://poelling.bayern/kalender/jahreshauptversammlung-ogv-poelling/
LOCATION:Charite\, Pfarrgarten Pölling\, St.-Martin-Straße 11\, Pölling\, 92318
ORGANIZER;CN="OGV P%C3%B6lling":MAILTO:ogv-poelling@gmx.de
END:VEVENT
BEGIN:VEVENT
DTSTART;TZID=Europe/Berlin:20230312T170000
DTEND;TZID=Europe/Berlin:20230312T170000
DTSTAMP:20260423T213854
CREATED:20230226T205455Z
LAST-MODIFIED:20230302T210252Z
UID:1355-1678640400-1678640400@poelling.bayern
SUMMARY:"Mensch sein - mit der Sehnsucht leben" Mit Kurzfilmen durch die Fastenzeit
DESCRIPTION:Die Fastenzeit als besondere Zeit wahrnehmen\, den eigenen Sehnsüchten nachspüren und sich wieder neu ausrichten\, dazu lädt der Pfarrverband Neumarkt-West in Kooperation mit der KEB Neumarkt ein. „Mensch sein – mit der Sehnsucht leben“ – unter diesem Thema stehen die Kurzfilme\, die jeweils an den Fastensonntagen gezeigt werden. \nDie Kurzfilme zeigen fantastische\, berührende\, zu Herzen gehende Menschen und geben Anlass zum Schmunzeln\, Hinterfragen und Nachdenken. Bei den gemeinsamen Treffen\, die von Gemeindereferentin Claudia Urban geleitet werden\, ist Gelegenheit zu Austausch\, Gespräch und Reflexion. Außerdem gibt es dem Film entsprechende Impulse für die persönliche tägliche Auszeit Zuhause. \nHerzliche Einladung!
URL:https://poelling.bayern/kalender/kurzfilme-im-charite-2/
LOCATION:Charite\, Pfarrgarten Pölling\, St.-Martin-Straße 11\, Pölling\, 92318
ATTACH;FMTTYPE=image/jpeg:https://poelling.bayern/wp-content/uploads/2023/02/KurzfilmAugenblick23.jpg
END:VEVENT
END:VCALENDAR