BEGIN:VCALENDAR
VERSION:2.0
PRODID:-//Pölling - ECPv6.15.14//NONSGML v1.0//EN
CALSCALE:GREGORIAN
METHOD:PUBLISH
X-WR-CALNAME:Pölling
X-ORIGINAL-URL:https://poelling.bayern
X-WR-CALDESC:Veranstaltungen für Pölling
REFRESH-INTERVAL;VALUE=DURATION:PT1H
X-Robots-Tag:noindex
X-PUBLISHED-TTL:PT1H
BEGIN:VTIMEZONE
TZID:Europe/Berlin
BEGIN:DAYLIGHT
TZOFFSETFROM:+0100
TZOFFSETTO:+0200
TZNAME:CEST
DTSTART:20220327T010000
END:DAYLIGHT
BEGIN:STANDARD
TZOFFSETFROM:+0200
TZOFFSETTO:+0100
TZNAME:CET
DTSTART:20221030T010000
END:STANDARD
BEGIN:DAYLIGHT
TZOFFSETFROM:+0100
TZOFFSETTO:+0200
TZNAME:CEST
DTSTART:20230326T010000
END:DAYLIGHT
BEGIN:STANDARD
TZOFFSETFROM:+0200
TZOFFSETTO:+0100
TZNAME:CET
DTSTART:20231029T010000
END:STANDARD
BEGIN:DAYLIGHT
TZOFFSETFROM:+0100
TZOFFSETTO:+0200
TZNAME:CEST
DTSTART:20240331T010000
END:DAYLIGHT
BEGIN:STANDARD
TZOFFSETFROM:+0200
TZOFFSETTO:+0100
TZNAME:CET
DTSTART:20241027T010000
END:STANDARD
END:VTIMEZONE
BEGIN:VEVENT
DTSTART;TZID=Europe/Berlin:20230319T140000
DTEND;TZID=Europe/Berlin:20230319T140000
DTSTAMP:20260423T213846
CREATED:20230227T013617Z
LAST-MODIFIED:20230227T013617Z
UID:1450-1679234400-1679234400@poelling.bayern
SUMMARY:"Weg von Pölling nach Rittershof"
DESCRIPTION:Siehe Hinweise im Kirchenanzeiger
URL:https://poelling.bayern/kalender/weg-von-poelling-nach-rittershof/
LOCATION:Kirche St. Martin\, Pölling\, St.-Martin-Straße 10\, Pölling\, 92318\, Deutschland
END:VEVENT
BEGIN:VEVENT
DTSTART;TZID=Europe/Berlin:20230319T150000
DTEND;TZID=Europe/Berlin:20230319T180000
DTSTAMP:20260423T213846
CREATED:20230226T223536Z
LAST-MODIFIED:20230306T202218Z
UID:1394-1679238000-1679248800@poelling.bayern
SUMMARY:"Frühlingsanfang in Pölling" Musikalischer Nachmittag mit Kaffee und Kuchen
DESCRIPTION:Bei Kaffee\, Kuchen und vielen Gesprächen bieten vier sehr unterschiedliche Gruppen musikalische Unterhaltung an. \nDie vier Gruppen/Künstler sind: \n„Ramsy“\, Johannes Ramsauer\, mit Indie Rock \nDie 3 Zsammgwürfelten\, Franziska\, Rosi\, Heidi \nGeige und Piano\, Swetlana und Sasha (Ukraine) \nVeeh-Harfen Orchester Neumarkt \nDer Eintritt ist frei – Spenden sind erlaubt
URL:https://poelling.bayern/kalender/poelling-erwacht-musik-kaffee-kuchen/
LOCATION:Bürgerzentrum in der alten Schule\, St.-Martin-Straße 9\, Pölling\, 92318\, Deutschland
ATTACH;FMTTYPE=application/pdf:https://poelling.bayern/wp-content/uploads/2023/02/Einladung-zu-Poelling-Erwacht.pdf
ORGANIZER;CN="Heimat- und Kulturverein":MAILTO:richard_graf@gmx.de
END:VEVENT
BEGIN:VEVENT
DTSTART;TZID=Europe/Berlin:20230319T170000
DTEND;TZID=Europe/Berlin:20230319T170000
DTSTAMP:20260423T213846
CREATED:20230226T210001Z
LAST-MODIFIED:20230302T210703Z
UID:1357-1679245200-1679245200@poelling.bayern
SUMMARY:"Mensch sein - mit der Sehnsucht leben" Mit Kurzfilmen durch die Fastenzeit
DESCRIPTION:Die Fastenzeit als besondere Zeit wahrnehmen\, den eigenen Sehnsüchten nachspüren und sich wieder neu ausrichten\, dazu lädt der Pfarrverband Neumarkt-West in Kooperation mit der KEB Neumarkt ein. „Mensch sein – mit der Sehnsucht leben“ – unter diesem Thema stehen die Kurzfilme\, die jeweils an den Fastensonntagen gezeigt werden. \nDie Kurzfilme zeigen fantastische\, berührende\, zu Herzen gehende Menschen und geben Anlass zum Schmunzeln\, Hinterfragen und Nachdenken. Bei den gemeinsamen Treffen\, die von Gemeindereferentin Claudia Urban geleitet werden\, ist Gelegenheit zu Austausch\, Gespräch und Reflexion. Außerdem gibt es dem Film entsprechende Impulse für die persönliche tägliche Auszeit Zuhause. \nHerzliche Einladung!
URL:https://poelling.bayern/kalender/kurzfilme-im-charite-3/
LOCATION:Charite\, Pfarrgarten Pölling\, St.-Martin-Straße 11\, Pölling\, 92318
ATTACH;FMTTYPE=image/jpeg:https://poelling.bayern/wp-content/uploads/2023/02/KurzfilmAugenblick23.jpg
END:VEVENT
END:VCALENDAR