BEGIN:VCALENDAR
VERSION:2.0
PRODID:-//Pölling - ECPv6.15.14//NONSGML v1.0//EN
CALSCALE:GREGORIAN
METHOD:PUBLISH
X-WR-CALNAME:Pölling
X-ORIGINAL-URL:https://poelling.bayern
X-WR-CALDESC:Veranstaltungen für Pölling
REFRESH-INTERVAL;VALUE=DURATION:PT1H
X-Robots-Tag:noindex
X-PUBLISHED-TTL:PT1H
BEGIN:VTIMEZONE
TZID:Europe/Berlin
BEGIN:DAYLIGHT
TZOFFSETFROM:+0100
TZOFFSETTO:+0200
TZNAME:CEST
DTSTART:20220327T010000
END:DAYLIGHT
BEGIN:STANDARD
TZOFFSETFROM:+0200
TZOFFSETTO:+0100
TZNAME:CET
DTSTART:20221030T010000
END:STANDARD
BEGIN:DAYLIGHT
TZOFFSETFROM:+0100
TZOFFSETTO:+0200
TZNAME:CEST
DTSTART:20230326T010000
END:DAYLIGHT
BEGIN:STANDARD
TZOFFSETFROM:+0200
TZOFFSETTO:+0100
TZNAME:CET
DTSTART:20231029T010000
END:STANDARD
BEGIN:DAYLIGHT
TZOFFSETFROM:+0100
TZOFFSETTO:+0200
TZNAME:CEST
DTSTART:20240331T010000
END:DAYLIGHT
BEGIN:STANDARD
TZOFFSETFROM:+0200
TZOFFSETTO:+0100
TZNAME:CET
DTSTART:20241027T010000
END:STANDARD
END:VTIMEZONE
BEGIN:VEVENT
DTSTART;VALUE=DATE:20230322
DTEND;VALUE=DATE:20230327
DTSTAMP:20260423T213841
CREATED:20230301T115509Z
LAST-MODIFIED:20230301T115509Z
UID:1593-1679443200-1679875199@poelling.bayern
SUMMARY:Freizeitmesse in Nürnberg\, freier Eintritt für VdK-Mitglieder
DESCRIPTION:Das ist doch einmal eine gute Nachricht – VdK-Mitglieder haben freien Eintritt bei der Freizeitmesse in Nürnberg\, und zwar an den Tagen von 22. – 26. März. \nAusweis mitnehmen reicht und besonders hinweisen möchte ich auf die Halle 8 der Ausstellung. \nDort gibt es zahlreiche Infos für das Soziale miteinander. Am 24. März ist unsere Landesvorsitzende Ulrike Mascher dort bei einer Podiumsdiskussion zum Thema „Nächstenpflege“. \nDie Anreise erfolgt am besten mit der U-Bahn-Linie 1 (Haltestelle „Messe“)\, weitere Informationen: \nwww.freizeitmesse.de/inviva
URL:https://poelling.bayern/kalender/freizeitmesse-in-nuernberg-freier-eintritt-fuer-vdk-mitglieder/
LOCATION:Messezenrum Nürnbeg\, Messezentrum 1\, Nürnberg\, 90471\, Deutschland
ORGANIZER;CN="VdK":MAILTO:heidi.rackl@t-online.de
END:VEVENT
BEGIN:VEVENT
DTSTART;TZID=Europe/Berlin:20230325T083000
DTEND;TZID=Europe/Berlin:20230325T113000
DTSTAMP:20260423T213841
CREATED:20230226T224752Z
LAST-MODIFIED:20230226T231804Z
UID:1396-1679733000-1679743800@poelling.bayern
SUMMARY:Kleider- und Spielzeugbasar
DESCRIPTION:An alle Verkäufer- / innen: Bitte registriert Euch vorab über easybasar.de. Listen ab Freitag 03.03.2023\, 20 Uhr online verfügbar \nBitte ladet Euch die Verkaufsliste ab diesem Zeitpunkt über easybasar.de herunter. \nWeitere Infos auf www.basar-poelling.jimdo.de.\n12% des Verkaufspreises werden einbehalten und für wohltätige Zwecke gespendet! \nWeitere Details findet Ihr auf dem nachfolgendem Plakat: \n\n\n\nPlakat 2023_FJ
URL:https://poelling.bayern/kalender/1396/
LOCATION:Mittelschule West\, Woffenbacher Str. 36-38\, Woffenbach\, 92318\, Deutschland
ATTACH;FMTTYPE=application/pdf:https://poelling.bayern/wp-content/uploads/2023/02/Plakat-2023_FJ-1.pdf
ORGANIZER;CN="Heimat- und Kulturverein":MAILTO:richard_graf@gmx.de
END:VEVENT
BEGIN:VEVENT
DTSTART;TZID=Europe/Berlin:20230325T170000
DTEND;TZID=Europe/Berlin:20230325T235900
DTSTAMP:20260423T213841
CREATED:20230227T112127Z
LAST-MODIFIED:20230227T112346Z
UID:1452-1679763600-1679788740@poelling.bayern
SUMMARY:41. Bockbierfest des SV Pölling
DESCRIPTION:Der SVP möchte euch zum 41. Bockbierfest herzlich einladen. \nUm besser planen zu können und auch die Platzeinteilung sicher zu stellen\, bitten wir um Rückmeldung für alle die kommen werden. \nAnmeldungen/Bestellungen bitte an: kosmehl@schornsteintechnik-neumarkt.de \n  \nHier der Link mit der Auswahl: Bockbierabend 25.03.23
URL:https://poelling.bayern/kalender/41-bockbierfest-des-sv-poelling/
LOCATION:Sportstüberl SVP\, Sportheimstraße 10B\, Pölling\, 92318\, Deutschland
ATTACH;FMTTYPE=image/jpeg:https://poelling.bayern/wp-content/uploads/2023/02/Einladung-Bockbierfest-Aushang-2023.jpg
ORGANIZER;CN="SV P%C3%B6lling":MAILTO:vorstand@sv-poelling.de
END:VEVENT
END:VCALENDAR