BEGIN:VCALENDAR
VERSION:2.0
PRODID:-//Pölling - ECPv6.15.14//NONSGML v1.0//EN
CALSCALE:GREGORIAN
METHOD:PUBLISH
X-WR-CALNAME:Pölling
X-ORIGINAL-URL:https://poelling.bayern
X-WR-CALDESC:Veranstaltungen für Pölling
REFRESH-INTERVAL;VALUE=DURATION:PT1H
X-Robots-Tag:noindex
X-PUBLISHED-TTL:PT1H
BEGIN:VTIMEZONE
TZID:Europe/Berlin
BEGIN:DAYLIGHT
TZOFFSETFROM:+0100
TZOFFSETTO:+0200
TZNAME:CEST
DTSTART:20220327T010000
END:DAYLIGHT
BEGIN:STANDARD
TZOFFSETFROM:+0200
TZOFFSETTO:+0100
TZNAME:CET
DTSTART:20221030T010000
END:STANDARD
BEGIN:DAYLIGHT
TZOFFSETFROM:+0100
TZOFFSETTO:+0200
TZNAME:CEST
DTSTART:20230326T010000
END:DAYLIGHT
BEGIN:STANDARD
TZOFFSETFROM:+0200
TZOFFSETTO:+0100
TZNAME:CET
DTSTART:20231029T010000
END:STANDARD
BEGIN:DAYLIGHT
TZOFFSETFROM:+0100
TZOFFSETTO:+0200
TZNAME:CEST
DTSTART:20240331T010000
END:DAYLIGHT
BEGIN:STANDARD
TZOFFSETFROM:+0200
TZOFFSETTO:+0100
TZNAME:CET
DTSTART:20241027T010000
END:STANDARD
END:VTIMEZONE
BEGIN:VEVENT
DTSTART;TZID=Europe/Berlin:20230917T090000
DTEND;TZID=Europe/Berlin:20230917T100000
DTSTAMP:20260423T122428
CREATED:20230228T001449Z
LAST-MODIFIED:20230228T001449Z
UID:1578-1694941200-1694944800@poelling.bayern
SUMMARY:Fliegermesse im Hangar
DESCRIPTION:
URL:https://poelling.bayern/kalender/fliegermesse-im-hangar/
LOCATION:Flugplatz Neumarkt\, Nürnberger Straße 23\, Neumarkt\, 92318\, Deutschland
ORGANIZER;CN="Flugsportvereinigung Neumart":MAILTO:info@flugsport-neumarkt.de
END:VEVENT
BEGIN:VEVENT
DTSTART;TZID=Europe/Berlin:20230917T150000
DTEND;TZID=Europe/Berlin:20230917T150000
DTSTAMP:20260423T122428
CREATED:20230322T134742Z
LAST-MODIFIED:20230729T171331Z
UID:1656-1694962800-1694962800@poelling.bayern
SUMMARY:„Die Oberpfalz in Bild\, Ton und Film“ – Referent: Simon Süß
DESCRIPTION:Über drei Jahre war Simon Süß in der Oberpfalz unterwegs. Seine Mission: die Vielfalt unseres schönen Bezirks zu fotografieren.  \nFreuen dürfen wir uns auf einen lebendigen Vortrag mit vielen Bildern\, die unsere schöne Oberpfalz von vielen Seiten zeigt\, die selbst den Einheimischen oft nicht bekannt sind. \nLink zu mehr Infos: \nhttps://br.de/s/5pxV5vT
URL:https://poelling.bayern/kalender/lebendige-oberpfalz-in-wort-und-bild/
LOCATION:Bürgerzentrum in der alten Schule\, St.-Martin-Straße 9\, Pölling\, 92318\, Deutschland
ORGANIZER;CN="Heimat- und Kulturverein":MAILTO:richard_graf@gmx.de
END:VEVENT
END:VCALENDAR