BEGIN:VCALENDAR
VERSION:2.0
PRODID:-//Pölling - ECPv6.15.14//NONSGML v1.0//EN
CALSCALE:GREGORIAN
METHOD:PUBLISH
X-ORIGINAL-URL:https://poelling.bayern
X-WR-CALDESC:Veranstaltungen für Pölling
REFRESH-INTERVAL;VALUE=DURATION:PT1H
X-Robots-Tag:noindex
X-PUBLISHED-TTL:PT1H
BEGIN:VTIMEZONE
TZID:Europe/Berlin
BEGIN:DAYLIGHT
TZOFFSETFROM:+0100
TZOFFSETTO:+0200
TZNAME:CEST
DTSTART:20220327T010000
END:DAYLIGHT
BEGIN:STANDARD
TZOFFSETFROM:+0200
TZOFFSETTO:+0100
TZNAME:CET
DTSTART:20221030T010000
END:STANDARD
BEGIN:DAYLIGHT
TZOFFSETFROM:+0100
TZOFFSETTO:+0200
TZNAME:CEST
DTSTART:20230326T010000
END:DAYLIGHT
BEGIN:STANDARD
TZOFFSETFROM:+0200
TZOFFSETTO:+0100
TZNAME:CET
DTSTART:20231029T010000
END:STANDARD
BEGIN:DAYLIGHT
TZOFFSETFROM:+0100
TZOFFSETTO:+0200
TZNAME:CEST
DTSTART:20240331T010000
END:DAYLIGHT
BEGIN:STANDARD
TZOFFSETFROM:+0200
TZOFFSETTO:+0100
TZNAME:CET
DTSTART:20241027T010000
END:STANDARD
END:VTIMEZONE
BEGIN:VEVENT
DTSTART;TZID=Europe/Berlin:20230924T140000
DTEND;TZID=Europe/Berlin:20230924T190000
DTSTAMP:20260423T105529
CREATED:20230226T235407Z
LAST-MODIFIED:20230226T235407Z
UID:1414-1695564000-1695582000@poelling.bayern
SUMMARY:Spaziergang nach Stauf\, Besuch Schützenhaus
DESCRIPTION:Bei einem (kurzen) Spaziergang von Pölling nach Stauf wollen wir die Natur genießen und unsere Nachbarn besuchen. Im Schützenhaus Stauf gibt es dann eine kleine Stärkung und die Gelegenheit die eigene Treffsicherheit zu prüfen. Für die Rückkehr nach Pölling können wir Mitfahrgelegenheiten organisieren\, oder nochmals ein paar Schritte gehen 🙂 \nStartpunkt ist das Bürgerzentrum in der alten Schule
URL:https://poelling.bayern/kalender/spaziergang-nach-stauf-besuch-schuetzenhaus/
LOCATION:Bürgerzentrum in der alten Schule\, St.-Martin-Straße 9\, Pölling\, 92318\, Deutschland
ORGANIZER;CN="Heimat- und Kulturverein":MAILTO:richard_graf@gmx.de
END:VEVENT
END:VCALENDAR