BEGIN:VCALENDAR
VERSION:2.0
PRODID:-//Pölling - ECPv6.15.14//NONSGML v1.0//EN
CALSCALE:GREGORIAN
METHOD:PUBLISH
X-WR-CALNAME:Pölling
X-ORIGINAL-URL:https://poelling.bayern
X-WR-CALDESC:Veranstaltungen für Pölling
REFRESH-INTERVAL;VALUE=DURATION:PT1H
X-Robots-Tag:noindex
X-PUBLISHED-TTL:PT1H
BEGIN:VTIMEZONE
TZID:Europe/Berlin
BEGIN:DAYLIGHT
TZOFFSETFROM:+0100
TZOFFSETTO:+0200
TZNAME:CEST
DTSTART:20220327T010000
END:DAYLIGHT
BEGIN:STANDARD
TZOFFSETFROM:+0200
TZOFFSETTO:+0100
TZNAME:CET
DTSTART:20221030T010000
END:STANDARD
BEGIN:DAYLIGHT
TZOFFSETFROM:+0100
TZOFFSETTO:+0200
TZNAME:CEST
DTSTART:20230326T010000
END:DAYLIGHT
BEGIN:STANDARD
TZOFFSETFROM:+0200
TZOFFSETTO:+0100
TZNAME:CET
DTSTART:20231029T010000
END:STANDARD
BEGIN:DAYLIGHT
TZOFFSETFROM:+0100
TZOFFSETTO:+0200
TZNAME:CEST
DTSTART:20240331T010000
END:DAYLIGHT
BEGIN:STANDARD
TZOFFSETFROM:+0200
TZOFFSETTO:+0100
TZNAME:CET
DTSTART:20241027T010000
END:STANDARD
END:VTIMEZONE
BEGIN:VEVENT
DTSTART;TZID=Europe/Berlin:20231104T183000
DTEND;TZID=Europe/Berlin:20231104T233000
DTSTAMP:20260421T075430
CREATED:20230926T095249Z
LAST-MODIFIED:20230926T095354Z
UID:1863-1699122600-1699140600@poelling.bayern
SUMMARY:PÖLLING SINGT UND MUSIZIERT
DESCRIPTION:Am 04.11.2023 werden wir zusammen mit dem Mandolinen Ensemble Seubersdorf\, der Kanal Combo und dem Chor der UkrainerInnen zu einem Lieder- und Musik-Abend im Bürgerzentrum\nPölling einladen. Geplant sind Auftritte von 18:30 bis ca. 21:00 Uhr.\nAb 21:30 wird die Band „8431“ den weiteren Abend mit Unterhaltungsmusik gestalten.
URL:https://poelling.bayern/kalender/poelling-singt-und-musiziert/
LOCATION:Bürgerzentrum in der alten Schule\, St.-Martin-Straße 9\, Pölling\, 92318\, Deutschland
ORGANIZER;CN="Gesangverein":MAILTO:Paulus_poelling@t-online.de
END:VEVENT
END:VCALENDAR