BEGIN:VCALENDAR
VERSION:2.0
PRODID:-//Pölling - ECPv6.15.14//NONSGML v1.0//EN
CALSCALE:GREGORIAN
METHOD:PUBLISH
X-WR-CALNAME:Pölling
X-ORIGINAL-URL:https://poelling.bayern
X-WR-CALDESC:Veranstaltungen für Pölling
REFRESH-INTERVAL;VALUE=DURATION:PT1H
X-Robots-Tag:noindex
X-PUBLISHED-TTL:PT1H
BEGIN:VTIMEZONE
TZID:Europe/Berlin
BEGIN:DAYLIGHT
TZOFFSETFROM:+0100
TZOFFSETTO:+0200
TZNAME:CEST
DTSTART:20220327T010000
END:DAYLIGHT
BEGIN:STANDARD
TZOFFSETFROM:+0200
TZOFFSETTO:+0100
TZNAME:CET
DTSTART:20221030T010000
END:STANDARD
BEGIN:DAYLIGHT
TZOFFSETFROM:+0100
TZOFFSETTO:+0200
TZNAME:CEST
DTSTART:20230326T010000
END:DAYLIGHT
BEGIN:STANDARD
TZOFFSETFROM:+0200
TZOFFSETTO:+0100
TZNAME:CET
DTSTART:20231029T010000
END:STANDARD
BEGIN:DAYLIGHT
TZOFFSETFROM:+0100
TZOFFSETTO:+0200
TZNAME:CEST
DTSTART:20240331T010000
END:DAYLIGHT
BEGIN:STANDARD
TZOFFSETFROM:+0200
TZOFFSETTO:+0100
TZNAME:CET
DTSTART:20241027T010000
END:STANDARD
END:VTIMEZONE
BEGIN:VEVENT
DTSTART;VALUE=DATE:20231110
DTEND;VALUE=DATE:20231113
DTSTAMP:20260421T075438
CREATED:20230226T221652Z
LAST-MODIFIED:20230926T102515Z
UID:1386-1699574400-1699833599@poelling.bayern
SUMMARY:Martini-Kirchweih
DESCRIPTION:Die „Bixn & Burschen“ erarbeiten noch die Details zur Veranstaltung und sind wieder der Veranstalter. \nWir erhoffen uns ein ähnlich faszinierendes Programm wie im letzten (sehr erfolgreichen) Jahr. \nPS: Kompliment an die bärenstarke Mannschaft ! \nhttps://www.facebook.com/events/1332907097297434
URL:https://poelling.bayern/kalender/martini-kirchweih/
LOCATION:Sportplatz SV Pölling\, Sportheimstraße 10B\, Pölling\, 92318
ATTACH;FMTTYPE=image/jpeg:https://poelling.bayern/wp-content/uploads/2023/02/364014907_617380990504829_548285895833768642_n.jpg
ORGANIZER;CN="Heimat- und Kulturverein":MAILTO:richard_graf@gmx.de
END:VEVENT
END:VCALENDAR