BEGIN:VCALENDAR
VERSION:2.0
PRODID:-//Pölling - ECPv6.15.14//NONSGML v1.0//EN
CALSCALE:GREGORIAN
METHOD:PUBLISH
X-ORIGINAL-URL:https://poelling.bayern
X-WR-CALDESC:Veranstaltungen für Pölling
REFRESH-INTERVAL;VALUE=DURATION:PT1H
X-Robots-Tag:noindex
X-PUBLISHED-TTL:PT1H
BEGIN:VTIMEZONE
TZID:Europe/Berlin
BEGIN:DAYLIGHT
TZOFFSETFROM:+0100
TZOFFSETTO:+0200
TZNAME:CEST
DTSTART:20220327T010000
END:DAYLIGHT
BEGIN:STANDARD
TZOFFSETFROM:+0200
TZOFFSETTO:+0100
TZNAME:CET
DTSTART:20221030T010000
END:STANDARD
BEGIN:DAYLIGHT
TZOFFSETFROM:+0100
TZOFFSETTO:+0200
TZNAME:CEST
DTSTART:20230326T010000
END:DAYLIGHT
BEGIN:STANDARD
TZOFFSETFROM:+0200
TZOFFSETTO:+0100
TZNAME:CET
DTSTART:20231029T010000
END:STANDARD
BEGIN:DAYLIGHT
TZOFFSETFROM:+0100
TZOFFSETTO:+0200
TZNAME:CEST
DTSTART:20240331T010000
END:DAYLIGHT
BEGIN:STANDARD
TZOFFSETFROM:+0200
TZOFFSETTO:+0100
TZNAME:CET
DTSTART:20241027T010000
END:STANDARD
END:VTIMEZONE
BEGIN:VEVENT
DTSTART;TZID=Europe/Berlin:20231126T140000
DTEND;TZID=Europe/Berlin:20231126T150000
DTSTAMP:20260421T075925
CREATED:20230227T233956Z
LAST-MODIFIED:20230729T174744Z
UID:1570-1701007200-1701010800@poelling.bayern
SUMMARY:Jahreshauptversammlung mit Neuwahlen\, VdK
DESCRIPTION:Am 26. November 2023 haben wir zwei Veranstaltungen. Wir beginnen um 14 Uhr mit unserer Jahreshauptversammlung\, bei der wir auch die Neuwahl des Ortsverbandes durchführen. \nIm Anschluss daran beginnen wir um 15 Uhr mit unserer öffentlichen Herbstversammlung mit nettem Programm – Dichterlesung mit musikalischer Umrahmung. Dabei werden wir auch die Ehrungen unserer langjährigen Mitglieder durchführen.
URL:https://poelling.bayern/kalender/jahreshauptversammlung-mit-neuwahlen-vdk/
LOCATION:Bürgerzentrum in der alten Schule\, St.-Martin-Straße 9\, Pölling\, 92318\, Deutschland
ORGANIZER;CN="VdK Ortsverband P%C3%B6lling":MAILTO:heidi.rackl@t-online.de
END:VEVENT
BEGIN:VEVENT
DTSTART;TZID=Europe/Berlin:20231126T150000
DTEND;TZID=Europe/Berlin:20231126T150000
DTSTAMP:20260421T075925
CREATED:20230729T173726Z
LAST-MODIFIED:20230729T174904Z
UID:1764-1701010800-1701010800@poelling.bayern
SUMMARY:Dichterlesung mit musikalischer Umrahmung
DESCRIPTION:Öffentliche Veranstaltung mit Überraschungen.
URL:https://poelling.bayern/kalender/dichterlesung-mit-musikalischer-umrahmung/
LOCATION:Bürgerzentrum in der alten Schule\, St.-Martin-Straße 9\, Pölling\, 92318\, Deutschland
ORGANIZER;CN="VdK Ortsverband P%C3%B6lling":MAILTO:heidi.rackl@t-online.de
END:VEVENT
BEGIN:VEVENT
DTSTART;TZID=Europe/Berlin:20231126T170000
DTEND;TZID=Europe/Berlin:20231126T190000
DTSTAMP:20260421T075925
CREATED:20230926T110652Z
LAST-MODIFIED:20230926T110742Z
UID:1875-1701018000-1701025200@poelling.bayern
SUMMARY:Kirchenkonzert
DESCRIPTION:Details folgen und siehe Kirchenanzeiger
URL:https://poelling.bayern/kalender/kirchenkonzert-2/
LOCATION:Kirche St. Martin\, Pölling\, St.-Martin-Straße 10\, Pölling\, 92318\, Deutschland
ORGANIZER;CN="Blaskapelle P%C3%B6lling":MAILTO:info@blaskapelle-poelling.de
END:VEVENT
END:VCALENDAR