BEGIN:VCALENDAR
VERSION:2.0
PRODID:-//Pölling - ECPv6.15.14//NONSGML v1.0//EN
CALSCALE:GREGORIAN
METHOD:PUBLISH
X-WR-CALNAME:Pölling
X-ORIGINAL-URL:https://poelling.bayern
X-WR-CALDESC:Veranstaltungen für Pölling
REFRESH-INTERVAL;VALUE=DURATION:PT1H
X-Robots-Tag:noindex
X-PUBLISHED-TTL:PT1H
BEGIN:VTIMEZONE
TZID:Europe/Berlin
BEGIN:DAYLIGHT
TZOFFSETFROM:+0100
TZOFFSETTO:+0200
TZNAME:CEST
DTSTART:20230326T010000
END:DAYLIGHT
BEGIN:STANDARD
TZOFFSETFROM:+0200
TZOFFSETTO:+0100
TZNAME:CET
DTSTART:20231029T010000
END:STANDARD
BEGIN:DAYLIGHT
TZOFFSETFROM:+0100
TZOFFSETTO:+0200
TZNAME:CEST
DTSTART:20240331T010000
END:DAYLIGHT
BEGIN:STANDARD
TZOFFSETFROM:+0200
TZOFFSETTO:+0100
TZNAME:CET
DTSTART:20241027T010000
END:STANDARD
BEGIN:DAYLIGHT
TZOFFSETFROM:+0100
TZOFFSETTO:+0200
TZNAME:CEST
DTSTART:20250330T010000
END:DAYLIGHT
BEGIN:STANDARD
TZOFFSETFROM:+0200
TZOFFSETTO:+0100
TZNAME:CET
DTSTART:20251026T010000
END:STANDARD
END:VTIMEZONE
BEGIN:VEVENT
DTSTART;TZID=Europe/Berlin:20240224T090000
DTEND;TZID=Europe/Berlin:20240224T110000
DTSTAMP:20260421T030732
CREATED:20240223T210747Z
LAST-MODIFIED:20240223T211902Z
UID:2002-1708765200-1708772400@poelling.bayern
SUMMARY:Internationales Frauenfrühstück
DESCRIPTION:
URL:https://poelling.bayern/kalender/internationales-frauenfruehstueck/
LOCATION:Bürgerzentrum in der alten Schule\, St.-Martin-Straße 9\, Pölling\, 92318\, Deutschland
ORGANIZER;CN="B%C3%BCrgerzentrum in der alten Schule":MAILTO:Anna.Lehrer@neumarkt.de
END:VEVENT
BEGIN:VEVENT
DTSTART;TZID=Europe/Berlin:20240224T153000
DTEND;TZID=Europe/Berlin:20240224T180000
DTSTAMP:20260421T030732
CREATED:20240223T211000Z
LAST-MODIFIED:20240223T211942Z
UID:2004-1708788600-1708797600@poelling.bayern
SUMMARY:Benefizkonzert für die Ukraine
DESCRIPTION:
URL:https://poelling.bayern/kalender/benefizkonzert-fuer-die-ukraine/
LOCATION:Bürgerzentrum in der alten Schule\, St.-Martin-Straße 9\, Pölling\, 92318\, Deutschland
ORGANIZER;CN="B%C3%BCrgerzentrum in der alten Schule":MAILTO:Anna.Lehrer@neumarkt.de
END:VEVENT
BEGIN:VEVENT
DTSTART;TZID=Europe/Berlin:20240224T183000
DTEND;TZID=Europe/Berlin:20240224T193000
DTSTAMP:20260421T030732
CREATED:20240223T211200Z
LAST-MODIFIED:20240223T212012Z
UID:2006-1708799400-1708803000@poelling.bayern
SUMMARY:Gottesdienst zum Festtag "Heilige Walburga"
DESCRIPTION:
URL:https://poelling.bayern/kalender/gottesdienst-zum-festtag-heilige-walburga/
LOCATION:Kirche St. Walburga\, Holzheim\, Am Sand\, Holzheim\, 92318\, Deutschland
END:VEVENT
END:VCALENDAR