BEGIN:VCALENDAR
VERSION:2.0
PRODID:-//Pölling - ECPv6.15.14//NONSGML v1.0//EN
CALSCALE:GREGORIAN
METHOD:PUBLISH
X-WR-CALNAME:Pölling
X-ORIGINAL-URL:https://poelling.bayern
X-WR-CALDESC:Veranstaltungen für Pölling
REFRESH-INTERVAL;VALUE=DURATION:PT1H
X-Robots-Tag:noindex
X-PUBLISHED-TTL:PT1H
BEGIN:VTIMEZONE
TZID:Europe/Berlin
BEGIN:DAYLIGHT
TZOFFSETFROM:+0100
TZOFFSETTO:+0200
TZNAME:CEST
DTSTART:20230326T010000
END:DAYLIGHT
BEGIN:STANDARD
TZOFFSETFROM:+0200
TZOFFSETTO:+0100
TZNAME:CET
DTSTART:20231029T010000
END:STANDARD
BEGIN:DAYLIGHT
TZOFFSETFROM:+0100
TZOFFSETTO:+0200
TZNAME:CEST
DTSTART:20240331T010000
END:DAYLIGHT
BEGIN:STANDARD
TZOFFSETFROM:+0200
TZOFFSETTO:+0100
TZNAME:CET
DTSTART:20241027T010000
END:STANDARD
BEGIN:DAYLIGHT
TZOFFSETFROM:+0100
TZOFFSETTO:+0200
TZNAME:CEST
DTSTART:20250330T010000
END:DAYLIGHT
BEGIN:STANDARD
TZOFFSETFROM:+0200
TZOFFSETTO:+0100
TZNAME:CET
DTSTART:20251026T010000
END:STANDARD
END:VTIMEZONE
BEGIN:VEVENT
DTSTART;TZID=Europe/Berlin:20240323T090000
DTEND;TZID=Europe/Berlin:20240323T110000
DTSTAMP:20260421T012021
CREATED:20240223T214410Z
LAST-MODIFIED:20240223T214417Z
UID:2020-1711184400-1711191600@poelling.bayern
SUMMARY:Internationales Frauenfrühstück
DESCRIPTION:
URL:https://poelling.bayern/kalender/internationales-frauenfruehstueck-2/
LOCATION:Bürgerzentrum in der alten Schule\, St.-Martin-Straße 9\, Pölling\, 92318\, Deutschland
ORGANIZER;CN="B%C3%BCrgerzentrum in der alten Schule":MAILTO:Anna.Lehrer@neumarkt.de
END:VEVENT
BEGIN:VEVENT
DTSTART;TZID=Europe/Berlin:20240323T173000
DTEND;TZID=Europe/Berlin:20240323T173000
DTSTAMP:20260421T012021
CREATED:20230926T131537Z
LAST-MODIFIED:20230926T131803Z
UID:1904-1711215000-1711215000@poelling.bayern
SUMMARY:Bockbierfest des SV Pölling
DESCRIPTION:Details hierzu siehe: \nhttps://www.sv-poelling.de
URL:https://poelling.bayern/kalender/bockbierfest-des-sv-poelling/
LOCATION:Sportstüberl SVP\, Sportheimstraße 10B\, Pölling\, 92318\, Deutschland
ORGANIZER;CN="SV P%C3%B6lling":MAILTO:vorstand@sv-poelling.de
END:VEVENT
END:VCALENDAR