BEGIN:VCALENDAR
VERSION:2.0
PRODID:-//Pölling - ECPv6.15.14//NONSGML v1.0//EN
CALSCALE:GREGORIAN
METHOD:PUBLISH
X-WR-CALNAME:Pölling
X-ORIGINAL-URL:https://poelling.bayern
X-WR-CALDESC:Veranstaltungen für Pölling
REFRESH-INTERVAL;VALUE=DURATION:PT1H
X-Robots-Tag:noindex
X-PUBLISHED-TTL:PT1H
BEGIN:VTIMEZONE
TZID:Europe/Berlin
BEGIN:DAYLIGHT
TZOFFSETFROM:+0100
TZOFFSETTO:+0200
TZNAME:CEST
DTSTART:20230326T010000
END:DAYLIGHT
BEGIN:STANDARD
TZOFFSETFROM:+0200
TZOFFSETTO:+0100
TZNAME:CET
DTSTART:20231029T010000
END:STANDARD
BEGIN:DAYLIGHT
TZOFFSETFROM:+0100
TZOFFSETTO:+0200
TZNAME:CEST
DTSTART:20240331T010000
END:DAYLIGHT
BEGIN:STANDARD
TZOFFSETFROM:+0200
TZOFFSETTO:+0100
TZNAME:CET
DTSTART:20241027T010000
END:STANDARD
BEGIN:DAYLIGHT
TZOFFSETFROM:+0100
TZOFFSETTO:+0200
TZNAME:CEST
DTSTART:20250330T010000
END:DAYLIGHT
BEGIN:STANDARD
TZOFFSETFROM:+0200
TZOFFSETTO:+0100
TZNAME:CET
DTSTART:20251026T010000
END:STANDARD
END:VTIMEZONE
BEGIN:VEVENT
DTSTART;TZID=Europe/Berlin:20240515T173000
DTEND;TZID=Europe/Berlin:20240515T200000
DTSTAMP:20260420T185834
CREATED:20240107T000035Z
LAST-MODIFIED:20240223T225234Z
UID:1982-1715794200-1715803200@poelling.bayern
SUMMARY:Vortrag "DAMIT FRIEDEN WÄCHST: Du machst den Unterschied!“
DESCRIPTION:https://www.keb-neumarkt-roth-schwabach.de/programm/a/8798-damit-frieden-wachst-du-machst-den-unterschied \n„DAMIT FRIEDEN WÄCHST: DU machst den Unterschied“ \nEin Vortrag über die Arbeit des Hilfswerks „Renovabis“. \nBeginn um 18:30 mit der Abendmesse\, anschließend Vortrag. \nThomas Schumann ist Referent für Öffentlichkeitsarbeit bei „Renovabis“. \nMit dem Collegium Orientale \n 
URL:https://poelling.bayern/kalender/vortrag-damit-frieden-waechst-du-machst-den-unterschied/
LOCATION:Charite\, Pfarrgarten Pölling\, St.-Martin-Straße 11\, Pölling\, 92318
END:VEVENT
END:VCALENDAR