BEGIN:VCALENDAR
VERSION:2.0
PRODID:-//Pölling - ECPv6.15.14//NONSGML v1.0//EN
CALSCALE:GREGORIAN
METHOD:PUBLISH
X-ORIGINAL-URL:https://poelling.bayern
X-WR-CALDESC:Veranstaltungen für Pölling
REFRESH-INTERVAL;VALUE=DURATION:PT1H
X-Robots-Tag:noindex
X-PUBLISHED-TTL:PT1H
BEGIN:VTIMEZONE
TZID:Europe/Berlin
BEGIN:DAYLIGHT
TZOFFSETFROM:+0100
TZOFFSETTO:+0200
TZNAME:CEST
DTSTART:20230326T010000
END:DAYLIGHT
BEGIN:STANDARD
TZOFFSETFROM:+0200
TZOFFSETTO:+0100
TZNAME:CET
DTSTART:20231029T010000
END:STANDARD
BEGIN:DAYLIGHT
TZOFFSETFROM:+0100
TZOFFSETTO:+0200
TZNAME:CEST
DTSTART:20240331T010000
END:DAYLIGHT
BEGIN:STANDARD
TZOFFSETFROM:+0200
TZOFFSETTO:+0100
TZNAME:CET
DTSTART:20241027T010000
END:STANDARD
BEGIN:DAYLIGHT
TZOFFSETFROM:+0100
TZOFFSETTO:+0200
TZNAME:CEST
DTSTART:20250330T010000
END:DAYLIGHT
BEGIN:STANDARD
TZOFFSETFROM:+0200
TZOFFSETTO:+0100
TZNAME:CET
DTSTART:20251026T010000
END:STANDARD
END:VTIMEZONE
BEGIN:VEVENT
DTSTART;VALUE=DATE:20240705
DTEND;VALUE=DATE:20240708
DTSTAMP:20260420T152536
CREATED:20230926T135238Z
LAST-MODIFIED:20230926T135806Z
UID:1911-1720137600-1720396799@poelling.bayern
SUMMARY:Jugend-Masters 2024
DESCRIPTION:Details hierzu:\nhttps://www.sv-poelling.de
URL:https://poelling.bayern/kalender/jugend-masters-2024/
LOCATION:Sportplatz SV Pölling\, Sportheimstraße 10B\, Pölling\, 92318
ORGANIZER;CN="SV P%C3%B6lling":MAILTO:vorstand@sv-poelling.de
END:VEVENT
BEGIN:VEVENT
DTSTART;TZID=Europe/Berlin:20240706T153000
DTEND;TZID=Europe/Berlin:20240706T153000
DTSTAMP:20260420T152536
CREATED:20240224T002410Z
LAST-MODIFIED:20240224T014425Z
UID:2085-1720279800-1720279800@poelling.bayern
SUMMARY:Theaterfahrt zum „Hussenkrieg" - Neunburg v. Wald
DESCRIPTION:Pfalzgraf Johann – Reformator Jan Hus –  Aufgeführt wird das Spiel von Bürgerinnen und Bürgern aus Neunburg – ein lebendiges Zeugnis deutsch-tschechischer Geschichte. \nFahrt\, Empfang im Rathaus durch Bürgermeister Martin Birner\, Besuch des Heimatmuseums Neunburg\, Eintritt zum Festspiel
URL:https://poelling.bayern/kalender/theaterfahrt-zum-hussenkrieg-neunburg-v-wald/
ORGANIZER;CN="VdK Ortsverband P%C3%B6lling":MAILTO:heidi.rackl@t-online.de
END:VEVENT
BEGIN:VEVENT
DTSTART;TZID=Europe/Berlin:20240706T160000
DTEND;TZID=Europe/Berlin:20240706T233000
DTSTAMP:20260420T152536
CREATED:20240224T001106Z
LAST-MODIFIED:20240224T001430Z
UID:2081-1720281600-1720308600@poelling.bayern
SUMMARY:Iwan Kupala - Fest\, Sommersonnenwende\,  IN PLANUNG
DESCRIPTION:Viele Bräuche von Iwan Kupala sind mit dem Wasser\, dem Feuer\, sich entfaltenden magischen Kräften von Pflanzen und der Selbstreinigung verbunden. Es ist üblich\, dass junge Frauen mit Kerzen bestückte geflochtene Blumenkränze in Flüsse niederlassen und anhand ihres Driftens im Wasser die eigene Zukunft ablesen. Ein anderer Brauch ist das Springen von jungen Paaren über ein Lagerfeuer. \nEs werden Musikgruppen aus der Region und aus der Ukraine erwartet. \nZudem bereiten wir ein ansprechendes Rahmenprogramm vor. \nhttps://www.postbauer-heng.de/kultur-freizeit/freizeit/naturbad/
URL:https://poelling.bayern/kalender/iwan-kupala-fest-sommersonnenwende-in-planung/
LOCATION:Naturbad Postbauer-Heng\, Centrum 11\, Postbauer-Heng\, 92353\, Deutschland
ORGANIZER;CN="Heimat- und Kulturverein":MAILTO:richard_graf@gmx.de
END:VEVENT
END:VCALENDAR