BEGIN:VCALENDAR
VERSION:2.0
PRODID:-//Pölling - ECPv6.15.14//NONSGML v1.0//EN
CALSCALE:GREGORIAN
METHOD:PUBLISH
X-ORIGINAL-URL:https://poelling.bayern
X-WR-CALDESC:Veranstaltungen für Pölling
REFRESH-INTERVAL;VALUE=DURATION:PT1H
X-Robots-Tag:noindex
X-PUBLISHED-TTL:PT1H
BEGIN:VTIMEZONE
TZID:Europe/Berlin
BEGIN:DAYLIGHT
TZOFFSETFROM:+0100
TZOFFSETTO:+0200
TZNAME:CEST
DTSTART:20230326T010000
END:DAYLIGHT
BEGIN:STANDARD
TZOFFSETFROM:+0200
TZOFFSETTO:+0100
TZNAME:CET
DTSTART:20231029T010000
END:STANDARD
BEGIN:DAYLIGHT
TZOFFSETFROM:+0100
TZOFFSETTO:+0200
TZNAME:CEST
DTSTART:20240331T010000
END:DAYLIGHT
BEGIN:STANDARD
TZOFFSETFROM:+0200
TZOFFSETTO:+0100
TZNAME:CET
DTSTART:20241027T010000
END:STANDARD
BEGIN:DAYLIGHT
TZOFFSETFROM:+0100
TZOFFSETTO:+0200
TZNAME:CEST
DTSTART:20250330T010000
END:DAYLIGHT
BEGIN:STANDARD
TZOFFSETFROM:+0200
TZOFFSETTO:+0100
TZNAME:CET
DTSTART:20251026T010000
END:STANDARD
END:VTIMEZONE
BEGIN:VEVENT
DTSTART;TZID=Europe/Berlin:20240719T163000
DTEND;TZID=Europe/Berlin:20240719T203000
DTSTAMP:20260420T152524
CREATED:20231010T145850Z
LAST-MODIFIED:20231010T145850Z
UID:1949-1721406600-1721421000@poelling.bayern
SUMMARY:Jubiläumsfest Kinderkrippe
DESCRIPTION:Jubiläumsfeier\nWeitere Details folgen mit den Einladungen vom „Haus der kleinen Füße“
URL:https://poelling.bayern/kalender/jubilaeumsfest-kinderkrippe/
LOCATION:Kinderkrippe „Haus der kleinen Füße“\, Lilienstraße 3\, 92318 Neumarkt\, Deutschland
ATTACH;FMTTYPE=image/jpeg:https://poelling.bayern/wp-content/uploads/2023/10/Haus-der-kleinen-Fuesse.jpeg
ORGANIZER;CN="Kinderkrippe 'Haus der kleinen F%C3%BC%C3%9Fe'":MAILTO:krippe.poelling@bistum-eichstaett.de
END:VEVENT
END:VCALENDAR