BEGIN:VCALENDAR
VERSION:2.0
PRODID:-//Pölling - ECPv6.15.14//NONSGML v1.0//EN
CALSCALE:GREGORIAN
METHOD:PUBLISH
X-ORIGINAL-URL:https://poelling.bayern
X-WR-CALDESC:Veranstaltungen für Pölling
REFRESH-INTERVAL;VALUE=DURATION:PT1H
X-Robots-Tag:noindex
X-PUBLISHED-TTL:PT1H
BEGIN:VTIMEZONE
TZID:Europe/Berlin
BEGIN:DAYLIGHT
TZOFFSETFROM:+0100
TZOFFSETTO:+0200
TZNAME:CEST
DTSTART:20240331T010000
END:DAYLIGHT
BEGIN:STANDARD
TZOFFSETFROM:+0200
TZOFFSETTO:+0100
TZNAME:CET
DTSTART:20241027T010000
END:STANDARD
BEGIN:DAYLIGHT
TZOFFSETFROM:+0100
TZOFFSETTO:+0200
TZNAME:CEST
DTSTART:20250330T010000
END:DAYLIGHT
BEGIN:STANDARD
TZOFFSETFROM:+0200
TZOFFSETTO:+0100
TZNAME:CET
DTSTART:20251026T010000
END:STANDARD
BEGIN:DAYLIGHT
TZOFFSETFROM:+0100
TZOFFSETTO:+0200
TZNAME:CEST
DTSTART:20260329T010000
END:DAYLIGHT
BEGIN:STANDARD
TZOFFSETFROM:+0200
TZOFFSETTO:+0100
TZNAME:CET
DTSTART:20261025T010000
END:STANDARD
END:VTIMEZONE
BEGIN:VEVENT
DTSTART;TZID=Europe/Berlin:20250412T180000
DTEND;TZID=Europe/Berlin:20250412T220000
DTSTAMP:20260419T232016
CREATED:20250211T184019Z
LAST-MODIFIED:20250211T184019Z
UID:2353-1744480800-1744495200@poelling.bayern
SUMMARY:JHV des Flugsportvereins Neumarkt
DESCRIPTION:Einladung mit Agenda wird per Post zugestellt
URL:https://poelling.bayern/kalender/jhv-des-flugsportvereins-neumarkt/
LOCATION:Bürgerzentrum in der alten Schule\, St.-Martin-Straße 9\, Pölling\, 92318\, Deutschland
ORGANIZER;CN="Flugsportvereinigung Neumart":MAILTO:info@flugsport-neumarkt.de
END:VEVENT
END:VCALENDAR