BEGIN:VCALENDAR
VERSION:2.0
PRODID:-//Pölling - ECPv6.15.14//NONSGML v1.0//EN
CALSCALE:GREGORIAN
METHOD:PUBLISH
X-ORIGINAL-URL:https://poelling.bayern
X-WR-CALDESC:Veranstaltungen für Pölling
REFRESH-INTERVAL;VALUE=DURATION:PT1H
X-Robots-Tag:noindex
X-PUBLISHED-TTL:PT1H
BEGIN:VTIMEZONE
TZID:Europe/Berlin
BEGIN:DAYLIGHT
TZOFFSETFROM:+0100
TZOFFSETTO:+0200
TZNAME:CEST
DTSTART:20240331T010000
END:DAYLIGHT
BEGIN:STANDARD
TZOFFSETFROM:+0200
TZOFFSETTO:+0100
TZNAME:CET
DTSTART:20241027T010000
END:STANDARD
BEGIN:DAYLIGHT
TZOFFSETFROM:+0100
TZOFFSETTO:+0200
TZNAME:CEST
DTSTART:20250330T010000
END:DAYLIGHT
BEGIN:STANDARD
TZOFFSETFROM:+0200
TZOFFSETTO:+0100
TZNAME:CET
DTSTART:20251026T010000
END:STANDARD
BEGIN:DAYLIGHT
TZOFFSETFROM:+0100
TZOFFSETTO:+0200
TZNAME:CEST
DTSTART:20260329T010000
END:DAYLIGHT
BEGIN:STANDARD
TZOFFSETFROM:+0200
TZOFFSETTO:+0100
TZNAME:CET
DTSTART:20261025T010000
END:STANDARD
END:VTIMEZONE
BEGIN:VEVENT
DTSTART;TZID=Europe/Berlin:20250517T143000
DTEND;TZID=Europe/Berlin:20250517T143000
DTSTAMP:20260419T215223
CREATED:20250211T182946Z
LAST-MODIFIED:20250420T150810Z
UID:2346-1747492200-1747492200@poelling.bayern
SUMMARY:öffentliche Frühjahresveranstaltung des VdK
DESCRIPTION:„Tanze den Tanz des Lebens“ – eine kurzweilige und nachdenkliche Reise durch ein Thema\, das uns alle angeht. \nMit Leichtigkeit und gelegentlich auch mit einer Prise Humor nähert sich Susanne Plank dem Thema „Gedanken zu Leben und Tod“ und ist überzeugt: Wer den Blick darauf wagt\, wird mit wertvollen Impulsen für ein erfülltes Leben beschenkt. \nLassen Sie sich überraschen !
URL:https://poelling.bayern/kalender/muttertagsfeier-3/
LOCATION:Bürgerzentrum in der alten Schule\, St.-Martin-Straße 9\, Pölling\, 92318\, Deutschland
ORGANIZER;CN="VdK Ortsverband P%C3%B6lling":MAILTO:heidi.rackl@t-online.de
END:VEVENT
END:VCALENDAR