BEGIN:VCALENDAR
VERSION:2.0
PRODID:-//Pölling - ECPv6.15.14//NONSGML v1.0//EN
CALSCALE:GREGORIAN
METHOD:PUBLISH
X-ORIGINAL-URL:https://poelling.bayern
X-WR-CALDESC:Veranstaltungen für Pölling
REFRESH-INTERVAL;VALUE=DURATION:PT1H
X-Robots-Tag:noindex
X-PUBLISHED-TTL:PT1H
BEGIN:VTIMEZONE
TZID:Europe/Berlin
BEGIN:DAYLIGHT
TZOFFSETFROM:+0100
TZOFFSETTO:+0200
TZNAME:CEST
DTSTART:20240331T010000
END:DAYLIGHT
BEGIN:STANDARD
TZOFFSETFROM:+0200
TZOFFSETTO:+0100
TZNAME:CET
DTSTART:20241027T010000
END:STANDARD
BEGIN:DAYLIGHT
TZOFFSETFROM:+0100
TZOFFSETTO:+0200
TZNAME:CEST
DTSTART:20250330T010000
END:DAYLIGHT
BEGIN:STANDARD
TZOFFSETFROM:+0200
TZOFFSETTO:+0100
TZNAME:CET
DTSTART:20251026T010000
END:STANDARD
BEGIN:DAYLIGHT
TZOFFSETFROM:+0100
TZOFFSETTO:+0200
TZNAME:CEST
DTSTART:20260329T010000
END:DAYLIGHT
BEGIN:STANDARD
TZOFFSETFROM:+0200
TZOFFSETTO:+0100
TZNAME:CET
DTSTART:20261025T010000
END:STANDARD
END:VTIMEZONE
BEGIN:VEVENT
DTSTART;VALUE=DATE:20250627
DTEND;VALUE=DATE:20250630
DTSTAMP:20260419T175834
CREATED:20230926T141736Z
LAST-MODIFIED:20250420T162026Z
UID:1917-1750982400-1751241599@poelling.bayern
SUMMARY:75 Jahre SV Pölling
DESCRIPTION:in Planung\, Details: https://www.sv-poelling.de \nAblaufplan Stand 12.04.25-1
URL:https://poelling.bayern/kalender/75-jahre-sv-poelling/
LOCATION:Sportplatz SV Pölling\, Sportheimstraße 10B\, Pölling\, 92318
ATTACH;FMTTYPE=application/pdf:https://poelling.bayern/wp-content/uploads/2023/09/Ablaufplan-Stand-12.04.25-1.pdf
ORGANIZER;CN="SV P%C3%B6lling":MAILTO:vorstand@sv-poelling.de
END:VEVENT
BEGIN:VEVENT
DTSTART;VALUE=DATE:20250704
DTEND;VALUE=DATE:20250707
DTSTAMP:20260419T175834
CREATED:20250217T200134Z
LAST-MODIFIED:20250420T163125Z
UID:2372-1751587200-1751846399@poelling.bayern
SUMMARY:Jugendmasters 2025
DESCRIPTION:weitere Details auf der Internetseite des SV Pölling \nhttps://www.sv-poelling.de/artikel/27-art-kat-jugendmasters
URL:https://poelling.bayern/kalender/jugendmasters-2025/
LOCATION:Sportplatz SV Pölling\, Sportheimstraße 10B\, Pölling\, 92318
ATTACH;FMTTYPE=application/pdf:https://poelling.bayern/wp-content/uploads/2025/02/Jugendmasters-2025-1-1.pdf
ORGANIZER;CN="SV P%C3%B6lling":MAILTO:vorstand@sv-poelling.de
END:VEVENT
BEGIN:VEVENT
DTSTART;TZID=Europe/Berlin:20250705T140000
DTEND;TZID=Europe/Berlin:20250705T140000
DTSTAMP:20260419T175834
CREATED:20250418T201018Z
LAST-MODIFIED:20250418T201224Z
UID:2404-1751724000-1751724000@poelling.bayern
SUMMARY:Tier und Natur auf der Spur
DESCRIPTION:Verbraucherführung Landwirtschaft unter dem Motto „Tier und Natur auf der Spur“ am Samstag\, den 5.Juli 2025 um 14:00 Uhr am Betrieb Hollweck in Ammelhofen 1 bei Pilsach. \nDie Familie Hollweck betreibt neben Ackerbau und Milchviehhaltung eine Hofmolkerei mit Herstellung von Milchmischgetränken\, Joghurt\, Eis\, Quark\, Frischkäse und Süßspeisen. \nNach der Führung sorgt der HKV für Bewirtung. \nAnmeldung bis 15.Juni bei Johann Paulus unter 0151/10460097
URL:https://poelling.bayern/kalender/tier-und-natur-auf-der-spur/
LOCATION:Ammelhofen 1\, bei Pilsach\, Fam. Hollweck\, Ammelhofen 1\, Bayern\, 92367\, Germany
ORGANIZER;CN="Heimat- und Kulturverein":MAILTO:richard_graf@gmx.de
END:VEVENT
END:VCALENDAR