BEGIN:VCALENDAR
VERSION:2.0
PRODID:-//Pölling - ECPv6.15.14//NONSGML v1.0//EN
CALSCALE:GREGORIAN
METHOD:PUBLISH
X-WR-CALNAME:Pölling
X-ORIGINAL-URL:https://poelling.bayern
X-WR-CALDESC:Veranstaltungen für Pölling
REFRESH-INTERVAL;VALUE=DURATION:PT1H
X-Robots-Tag:noindex
X-PUBLISHED-TTL:PT1H
BEGIN:VTIMEZONE
TZID:Europe/Berlin
BEGIN:DAYLIGHT
TZOFFSETFROM:+0100
TZOFFSETTO:+0200
TZNAME:CEST
DTSTART:20220327T010000
END:DAYLIGHT
BEGIN:STANDARD
TZOFFSETFROM:+0200
TZOFFSETTO:+0100
TZNAME:CET
DTSTART:20221030T010000
END:STANDARD
BEGIN:DAYLIGHT
TZOFFSETFROM:+0100
TZOFFSETTO:+0200
TZNAME:CEST
DTSTART:20230326T010000
END:DAYLIGHT
BEGIN:STANDARD
TZOFFSETFROM:+0200
TZOFFSETTO:+0100
TZNAME:CET
DTSTART:20231029T010000
END:STANDARD
BEGIN:DAYLIGHT
TZOFFSETFROM:+0100
TZOFFSETTO:+0200
TZNAME:CEST
DTSTART:20240331T010000
END:DAYLIGHT
BEGIN:STANDARD
TZOFFSETFROM:+0200
TZOFFSETTO:+0100
TZNAME:CET
DTSTART:20241027T010000
END:STANDARD
END:VTIMEZONE
BEGIN:VEVENT
DTSTART;TZID=Europe/Berlin:20230401T193000
DTEND;TZID=Europe/Berlin:20230401T193000
DTSTAMP:20260423T181651
CREATED:20230227T210307Z
LAST-MODIFIED:20230227T210307Z
UID:1503-1680377400-1680377400@poelling.bayern
SUMMARY:Jahreshauptversammlung\, FFW Pölling
DESCRIPTION:
URL:https://poelling.bayern/kalender/jahreshauptversammlung-ffw-poelling-2/
LOCATION:Bürgerzentrum in der alten Schule\, St.-Martin-Straße 9\, Pölling\, 92318\, Deutschland
ORGANIZER;CN="FFW P%C3%B6lling":MAILTO:Martin.rupp@klebl.de
END:VEVENT
BEGIN:VEVENT
DTSTART;TZID=Europe/Berlin:20230402T170000
DTEND;TZID=Europe/Berlin:20230402T170000
DTSTAMP:20260423T181651
CREATED:20230226T210449Z
LAST-MODIFIED:20230302T211528Z
UID:1361-1680454800-1680454800@poelling.bayern
SUMMARY:"Mensch sein - mit der Sehnsucht leben" Mit Kurzfilmen durch die Fastenzeit
DESCRIPTION:Die Fastenzeit als besondere Zeit wahrnehmen\, den eigenen Sehnsüchten nachspüren und sich wieder neu ausrichten\, dazu lädt der Pfarrverband Neumarkt-West in Kooperation mit der KEB Neumarkt ein. „Mensch sein – mit der Sehnsucht leben“ – unter diesem Thema stehen die Kurzfilme\, die jeweils an den Fastensonntagen gezeigt werden. \nDie Kurzfilme zeigen fantastische\, berührende\, zu Herzen gehende Menschen und geben Anlass zum Schmunzeln\, Hinterfragen und Nachdenken. Bei den gemeinsamen Treffen\, die von Gemeindereferentin Claudia Urban geleitet werden\, ist Gelegenheit zu Austausch\, Gespräch und Reflexion. Außerdem gibt es dem Film entsprechende Impulse für die persönliche tägliche Auszeit Zuhause. \nHerzliche Einladung!
URL:https://poelling.bayern/kalender/kurzfilme-im-charite-5/
LOCATION:Charite\, Pfarrgarten Pölling\, St.-Martin-Straße 11\, Pölling\, 92318
ATTACH;FMTTYPE=image/jpeg:https://poelling.bayern/wp-content/uploads/2023/02/KurzfilmAugenblick23.jpg
END:VEVENT
BEGIN:VEVENT
DTSTART;TZID=Europe/Berlin:20230407T000000
DTEND;TZID=Europe/Berlin:20230407T000000
DTSTAMP:20260423T181651
CREATED:20230227T152742Z
LAST-MODIFIED:20230227T152742Z
UID:1470-1680825600-1680825600@poelling.bayern
SUMMARY:Kinderkreuzweg Pölling und Rittershof
DESCRIPTION:Jeweils vor/in der Kirche Pölling und Rittershof. \nStartzeit bitte dem Kirchenanzeiger entnehmen. \n 
URL:https://poelling.bayern/kalender/kinderkreuzweg-poelling-und-rittershof/
LOCATION:Kirche St. Martin\, Pölling\, St.-Martin-Straße 10\, Pölling\, 92318\, Deutschland
END:VEVENT
BEGIN:VEVENT
DTSTART;TZID=Europe/Berlin:20230407T103000
DTEND;TZID=Europe/Berlin:20230407T103000
DTSTAMP:20260423T181651
CREATED:20230227T152436Z
LAST-MODIFIED:20230227T152436Z
UID:1468-1680863400-1680863400@poelling.bayern
SUMMARY:Kreuzweg für Erwachsene
DESCRIPTION:
URL:https://poelling.bayern/kalender/kreuzweg-fuer-erwachsene/
LOCATION:Kirche St. Martin\, Pölling\, St.-Martin-Straße 10\, Pölling\, 92318\, Deutschland
END:VEVENT
BEGIN:VEVENT
DTSTART;TZID=Europe/Berlin:20230410T140000
DTEND;TZID=Europe/Berlin:20230410T140000
DTSTAMP:20260423T181651
CREATED:20230227T153522Z
LAST-MODIFIED:20230328T102433Z
UID:1476-1681135200-1681135200@poelling.bayern
SUMMARY:Emmausgang nach Heng
DESCRIPTION:
URL:https://poelling.bayern/kalender/emausgang-2/
LOCATION:Kirche St. Martin\, Pölling\, St.-Martin-Straße 10\, Pölling\, 92318\, Deutschland
ATTACH;FMTTYPE=image/jpeg:https://poelling.bayern/wp-content/uploads/2023/02/IMG-20230327-WA0001.jpg
END:VEVENT
BEGIN:VEVENT
DTSTART;TZID=Europe/Berlin:20230415T193000
DTEND;TZID=Europe/Berlin:20230415T193000
DTSTAMP:20260423T181651
CREATED:20230227T220413Z
LAST-MODIFIED:20230315T121007Z
UID:1522-1681587000-1681587000@poelling.bayern
SUMMARY:Frühjahrskonzert der Blaskapelle Pölling
DESCRIPTION:Ticket über: \nhttps://okticket.de/index.php?event_id=41524&nl=ON&startReset=ON&setlang=de&cookiecheck=true
URL:https://poelling.bayern/kalender/fruehjahrskonzert-der-blaskapelle-poelling/
LOCATION:Reitstadel\, Residenzplatz 3\, Neumarkt\, 92318\, Deutschland
ATTACH;FMTTYPE=image/jpeg:https://poelling.bayern/wp-content/uploads/2023/02/Fruehjahrskonzert-der-Blaskapelle-Poelling-e.V..jpeg
ORGANIZER;CN="Blaskapelle P%C3%B6lling":MAILTO:info@blaskapelle-poelling.de
END:VEVENT
BEGIN:VEVENT
DTSTART;TZID=Europe/Berlin:20230417T180000
DTEND;TZID=Europe/Berlin:20230417T180000
DTSTAMP:20260423T181651
CREATED:20230226T215401Z
LAST-MODIFIED:20230226T215401Z
UID:1380-1681754400-1681754400@poelling.bayern
SUMMARY:Social Media Schulung für Vereine - Anfänger
DESCRIPTION:
URL:https://poelling.bayern/kalender/social-media-schulung-fuer-vereine-anfaenger/
LOCATION:Bürgerzentrum in der alten Schule\, St.-Martin-Straße 9\, Pölling\, 92318\, Deutschland
END:VEVENT
BEGIN:VEVENT
DTSTART;TZID=Europe/Berlin:20230422T000000
DTEND;TZID=Europe/Berlin:20230422T000000
DTSTAMP:20260423T181651
CREATED:20230227T211005Z
LAST-MODIFIED:20230227T211005Z
UID:1505-1682121600-1682121600@poelling.bayern
SUMMARY:Messe für verstorbene Mitglieder der FFW Pölling
DESCRIPTION:Uhrzeit wird noch nachgereicht. \nSiehe auch Info im Kirchenanzeiger
URL:https://poelling.bayern/kalender/messe-fuer-verstorbene-mitglieder-der-ffw-poelling/
LOCATION:Kirche St. Martin\, Pölling\, St.-Martin-Straße 10\, Pölling\, 92318\, Deutschland
END:VEVENT
BEGIN:VEVENT
DTSTART;TZID=Europe/Berlin:20230422T090000
DTEND;TZID=Europe/Berlin:20230422T090000
DTSTAMP:20260423T181651
CREATED:20230226T215717Z
LAST-MODIFIED:20230226T215717Z
UID:1382-1682154000-1682154000@poelling.bayern
SUMMARY:Kleidertauschbörse
DESCRIPTION:
URL:https://poelling.bayern/kalender/kleidertauschboerse/
LOCATION:Bürgerzentrum in der alten Schule\, St.-Martin-Straße 9\, Pölling\, 92318\, Deutschland
END:VEVENT
BEGIN:VEVENT
DTSTART;VALUE=DATE:20230428
DTEND;VALUE=DATE:20230502
DTSTAMP:20260423T181651
CREATED:20230227T221536Z
LAST-MODIFIED:20230227T221536Z
UID:1528-1682640000-1682985599@poelling.bayern
SUMMARY:Blaskapelle Pölling besucht Partnerstadt Mistelbach
DESCRIPTION:
URL:https://poelling.bayern/kalender/blaskapelle-poelling-besucht-partnerstadt-mistelbach/
LOCATION:Mistelbach\, Hauptplatz\, Mistelbach\, 2130\, Österreich
ORGANIZER;CN="Blaskapelle P%C3%B6lling":MAILTO:info@blaskapelle-poelling.de
END:VEVENT
BEGIN:VEVENT
DTSTART;TZID=Europe/Berlin:20230429T140000
DTEND;TZID=Europe/Berlin:20230429T173000
DTSTAMP:20260423T181651
CREATED:20230227T221940Z
LAST-MODIFIED:20230406T105311Z
UID:1531-1682776800-1682789400@poelling.bayern
SUMMARY:Muttertagsfeier
DESCRIPTION:Wir haben ein nettes Programm zusammengestellt. Eingeladen sind natürlich unsere Mütter mit ihren Partnern und wir freuen uns auf einen netten Nachmittag. \nDie musikalische Umrahmung übernehmen die Maierbach-Sängerinnen.
URL:https://poelling.bayern/kalender/muttertagsfeier/
LOCATION:Bürgerzentrum in der alten Schule\, St.-Martin-Straße 9\, Pölling\, 92318\, Deutschland
ATTACH;FMTTYPE=application/pdf:https://poelling.bayern/wp-content/uploads/2023/02/Muttertagsfeier-Plakat.pdf
ORGANIZER;CN="VdK":MAILTO:heidi.rackl@t-online.de
END:VEVENT
BEGIN:VEVENT
DTSTART;TZID=Europe/Berlin:20230430T083000
DTEND;TZID=Europe/Berlin:20230430T083000
DTSTAMP:20260423T181651
CREATED:20230227T211337Z
LAST-MODIFIED:20230318T192629Z
UID:1507-1682843400-1682843400@poelling.bayern
SUMMARY:Florianstag aller Landkreisfeuerwehren
DESCRIPTION:Festgottesdienst um 9:30 Uhr auf dem LGS-Gelände \n 
URL:https://poelling.bayern/kalender/florianstag/
ORGANIZER;CN="FFW P%C3%B6lling":MAILTO:Martin.rupp@klebl.de
END:VEVENT
END:VCALENDAR