BEGIN:VCALENDAR
VERSION:2.0
PRODID:-//Pölling - ECPv6.15.14//NONSGML v1.0//EN
CALSCALE:GREGORIAN
METHOD:PUBLISH
X-WR-CALNAME:Pölling
X-ORIGINAL-URL:https://poelling.bayern
X-WR-CALDESC:Veranstaltungen für Pölling
REFRESH-INTERVAL;VALUE=DURATION:PT1H
X-Robots-Tag:noindex
X-PUBLISHED-TTL:PT1H
BEGIN:VTIMEZONE
TZID:Europe/Berlin
BEGIN:DAYLIGHT
TZOFFSETFROM:+0100
TZOFFSETTO:+0200
TZNAME:CEST
DTSTART:20220327T010000
END:DAYLIGHT
BEGIN:STANDARD
TZOFFSETFROM:+0200
TZOFFSETTO:+0100
TZNAME:CET
DTSTART:20221030T010000
END:STANDARD
BEGIN:DAYLIGHT
TZOFFSETFROM:+0100
TZOFFSETTO:+0200
TZNAME:CEST
DTSTART:20230326T010000
END:DAYLIGHT
BEGIN:STANDARD
TZOFFSETFROM:+0200
TZOFFSETTO:+0100
TZNAME:CET
DTSTART:20231029T010000
END:STANDARD
BEGIN:DAYLIGHT
TZOFFSETFROM:+0100
TZOFFSETTO:+0200
TZNAME:CEST
DTSTART:20240331T010000
END:DAYLIGHT
BEGIN:STANDARD
TZOFFSETFROM:+0200
TZOFFSETTO:+0100
TZNAME:CET
DTSTART:20241027T010000
END:STANDARD
END:VTIMEZONE
BEGIN:VEVENT
DTSTART;VALUE=DATE:20230701
DTEND;VALUE=DATE:20230702
DTSTAMP:20260423T122108
CREATED:20230227T201945Z
LAST-MODIFIED:20230227T201945Z
UID:1483-1688169600-1688255999@poelling.bayern
SUMMARY:Buswallfahrt nach Altötting
DESCRIPTION:
URL:https://poelling.bayern/kalender/buswallfahrt-nach-altoetting/
LOCATION:Kirche St. Martin\, Pölling\, St.-Martin-Straße 10\, Pölling\, 92318\, Deutschland
END:VEVENT
BEGIN:VEVENT
DTSTART;VALUE=DATE:20230701
DTEND;VALUE=DATE:20230703
DTSTAMP:20260423T122108
CREATED:20230227T225108Z
LAST-MODIFIED:20230515T153536Z
UID:1544-1688169600-1688342399@poelling.bayern
SUMMARY:"100 Jahre Fliegerei in Neumarkt"
DESCRIPTION:Samstag: „Fly-In“ mit vielen\, auch historischen\, Fluggeräten. Abends große Fliegerparty im Hangar und ab 22:00 Uhr großes „Ballonglühen“ auf dem Flugfeld. \nSonntag\, 9:00 Uhr Fliegermesse mit der Blaskapelle Pölling\, danach Rundflüge\, Ausstellung historischer Fluggeräte und Kinderprogramm. \nAn beiden Tagen auch Mitfluggelegenheiten und beste Verpflegung.
URL:https://poelling.bayern/kalender/100-jahre-fliegerei-in-neumarkt/
LOCATION:Flugplatz Neumarkt\, Nürnberger Straße 23\, Neumarkt\, 92318\, Deutschland
ATTACH;FMTTYPE=application/pdf:https://poelling.bayern/wp-content/uploads/2023/02/Plakat-100-Jahre-Fliegerei.pdf
ORGANIZER;CN="Flugsportvereinigung Neumart":MAILTO:info@flugsport-neumarkt.de
END:VEVENT
BEGIN:VEVENT
DTSTART;TZID=Europe/Berlin:20230702T170000
DTEND;TZID=Europe/Berlin:20230702T170000
DTSTAMP:20260423T122108
CREATED:20230302T104121Z
LAST-MODIFIED:20230302T104121Z
UID:1599-1688317200-1688317200@poelling.bayern
SUMMARY:Bittlanger-Konzert
DESCRIPTION:Konzert im Rahmen der 50-Jahr-Feier in Holzheim
URL:https://poelling.bayern/kalender/bittlanger-konzert/
LOCATION:Kirche St. Walburga\, Holzheim\, Am Sand\, Holzheim\, 92318\, Deutschland
END:VEVENT
BEGIN:VEVENT
DTSTART;VALUE=DATE:20230707
DTEND;VALUE=DATE:20230710
DTSTAMP:20260423T122108
CREATED:20230227T225436Z
LAST-MODIFIED:20230227T225436Z
UID:1550-1688688000-1688947199@poelling.bayern
SUMMARY:20. Jugendmasters\, SV Pölling
DESCRIPTION:
URL:https://poelling.bayern/kalender/20-jugendmasters-sv-poelling/
LOCATION:Sportplatz SV Pölling\, Sportheimstraße 10B\, Pölling\, 92318
ORGANIZER;CN="SV P%C3%B6lling":MAILTO:vorstand@sv-poelling.de
END:VEVENT
BEGIN:VEVENT
DTSTART;TZID=Europe/Berlin:20230709T070000
DTEND;TZID=Europe/Berlin:20230709T200000
DTSTAMP:20260423T122108
CREATED:20230227T230029Z
LAST-MODIFIED:20230227T230029Z
UID:1552-1688886000-1688932800@poelling.bayern
SUMMARY:Vereinsausflug nach Bayreuth\, Gesangverein
DESCRIPTION:
URL:https://poelling.bayern/kalender/vereinsausflug-nach-bayreuth-gesangverein/
ORGANIZER;CN="Gesangverein":MAILTO:Paulus_poelling@t-online.de
END:VEVENT
BEGIN:VEVENT
DTSTART;VALUE=DATE:20230715
DTEND;VALUE=DATE:20230716
DTSTAMP:20260423T122108
CREATED:20230227T231323Z
LAST-MODIFIED:20230327T154634Z
UID:1554-1689379200-1689465599@poelling.bayern
SUMMARY:Ausflug zur Landesgartenschau nach Freyung
DESCRIPTION:Abfahrt: 7:30 Uhr \nWir steigen am Gänseliesl-Brunnen in den Bus\, der uns direkt zum Haupteingang der Gartenschau bringt. Dann ist Zeit das Gelände der LGS zu erkunden\, das unter dem Motto Wald. Weite. Wunderbar steht und (derzeit) die höchst gelegene LGS in Bayern ist. Natürlich ist die Vielfalt des Bayrischen Waldes ein zentrales Thema der Ausstellung. Entsprechend finden sich dort die Waldgärten\, wo die Themen Naturschutz und Nachhaltigkeit im Mittelpunkt stehen. Im Zentrum steht ein erhöhtes Holzdeck\, auf dem man in Augenhöhe mit den Baumkronen ist. Sicher ein entspannendes und beruhigendes Erlebnis. \nVielleicht bleibt noch etwas Zeit für einen kurzen Abstecher zur Wildbachklamm\, bevor wir am Nachmittag Freyung verlassen und unterwegs gemeinsam Einkehren. \nDie Fahrt mit Eintritt kostet 35\,- € für Mitglieder und 40\,- € für Nicht-Mitglieder. \nFür beide Fahrten (Freyung und Fulda) gilt: Familien mit Kindern bietet wir gerne einen Familienpreis an\, meldet euch. Das Geld wird jeweils während der Fahrt im Bus eingesammelt. Dann bekommen die Teilnehmer auch die Tickets für die Gartenschauen und weiter Informationen zum Ablauf der Fahrt. Bitte macht auch Freunde und Nachbarn auf unsere Ausflüge aufmerksam.
URL:https://poelling.bayern/kalender/vereinsausflug-nach-freyung-ogv-poelling/
ORGANIZER;CN="OGV P%C3%B6lling":MAILTO:ogv-poelling@gmx.de
END:VEVENT
BEGIN:VEVENT
DTSTART;TZID=Europe/Berlin:20230716T160000
DTEND;TZID=Europe/Berlin:20230716T160000
DTSTAMP:20260423T122108
CREATED:20230227T231658Z
LAST-MODIFIED:20230713T082247Z
UID:1556-1689523200-1689523200@poelling.bayern
SUMMARY:Filmvorführung – 100 Jahre Soldaten- und Kriegskameradschaft Pölling - Rittershof -----TERMINVERSCHIEBUNG\, NEUER TERMIN FOLGT
DESCRIPTION:Gemeinsam wollen wir eine schon ältere Aufnahme anschauen\, da wird sich der eine oder andere vielleicht wiedererkennen und gemeinsam wir können in alten Erinnerungen schwelgen. \nAlte Bilder\, alte Geschichten\, Kurioses und mehr oder weniger Bekanntes aus Pölling und Rittershof werden wir sehen und hören. \nNeugierig geworden? Dann kommt einfach . .
URL:https://poelling.bayern/kalender/filmnachmittag-des-vdk/
LOCATION:Bürgerzentrum in der alten Schule\, St.-Martin-Straße 9\, Pölling\, 92318\, Deutschland
ORGANIZER;CN="VdK":MAILTO:heidi.rackl@t-online.de
END:VEVENT
BEGIN:VEVENT
DTSTART;VALUE=DATE:20230722
DTEND;VALUE=DATE:20230724
DTSTAMP:20260423T122108
CREATED:20230227T203459Z
LAST-MODIFIED:20230227T203459Z
UID:1493-1689984000-1690156799@poelling.bayern
SUMMARY:Dorffest Rittershof
DESCRIPTION:
URL:https://poelling.bayern/kalender/dorffest-rittershof/
LOCATION:Feuerwehrhaus Rittershof\, Simelsbühl 15\, Rittershof\, 92318\, Deutschland
ORGANIZER;CN="FFW Rittershof":MAILTO:karina.schmid@gmx.de
END:VEVENT
BEGIN:VEVENT
DTSTART;TZID=Europe/Berlin:20230730T150000
DTEND;TZID=Europe/Berlin:20230730T180000
DTSTAMP:20260423T122108
CREATED:20230523T110541Z
LAST-MODIFIED:20230724T102415Z
UID:1724-1690729200-1690740000@poelling.bayern
SUMMARY:Tanz in den Sommer
DESCRIPTION:Zum „Tanz in den Sommer“  lädt der Heimat- und Kulturverein Pölling ein. Für die Live-Musik sorgt Erwin Radschinsky mit seinem großen Repertoire an Musik. Alle\, die schon lange einmal wieder das Tanzbein schwingen wollten\, sind herzlich eingeladen. Die Veranstaltung findet am kommenden Sonntag nachmittag\, 30. Juli\,  im Bürgerzentrum Pölling statt\, Beginn ist um 15 Uhr\, Eintritt kostet 5 Euro.
URL:https://poelling.bayern/kalender/tanz-in-den-sommer/
LOCATION:Bürgerzentrum in der alten Schule\, St.-Martin-Straße 9\, Pölling\, 92318\, Deutschland
ORGANIZER;CN="Heimat- und Kulturverein":MAILTO:richard_graf@gmx.de
END:VEVENT
END:VCALENDAR