BEGIN:VCALENDAR
VERSION:2.0
PRODID:-//Pölling - ECPv6.15.14//NONSGML v1.0//EN
CALSCALE:GREGORIAN
METHOD:PUBLISH
X-WR-CALNAME:Pölling
X-ORIGINAL-URL:https://poelling.bayern
X-WR-CALDESC:Veranstaltungen für Pölling
REFRESH-INTERVAL;VALUE=DURATION:PT1H
X-Robots-Tag:noindex
X-PUBLISHED-TTL:PT1H
BEGIN:VTIMEZONE
TZID:Europe/Berlin
BEGIN:DAYLIGHT
TZOFFSETFROM:+0100
TZOFFSETTO:+0200
TZNAME:CEST
DTSTART:20220327T010000
END:DAYLIGHT
BEGIN:STANDARD
TZOFFSETFROM:+0200
TZOFFSETTO:+0100
TZNAME:CET
DTSTART:20221030T010000
END:STANDARD
BEGIN:DAYLIGHT
TZOFFSETFROM:+0100
TZOFFSETTO:+0200
TZNAME:CEST
DTSTART:20230326T010000
END:DAYLIGHT
BEGIN:STANDARD
TZOFFSETFROM:+0200
TZOFFSETTO:+0100
TZNAME:CET
DTSTART:20231029T010000
END:STANDARD
BEGIN:DAYLIGHT
TZOFFSETFROM:+0100
TZOFFSETTO:+0200
TZNAME:CEST
DTSTART:20240331T010000
END:DAYLIGHT
BEGIN:STANDARD
TZOFFSETFROM:+0200
TZOFFSETTO:+0100
TZNAME:CET
DTSTART:20241027T010000
END:STANDARD
END:VTIMEZONE
BEGIN:VEVENT
DTSTART;VALUE=DATE:20230902
DTEND;VALUE=DATE:20230903
DTSTAMP:20260421T092959
CREATED:20230227T232222Z
LAST-MODIFIED:20230327T154549Z
UID:1558-1693612800-1693699199@poelling.bayern
SUMMARY:Ausflug zur LGS Fulda
DESCRIPTION:Abfahrt: 07:30 Uhr: \nAuch dieser Ausflug startet am Gänseliesl-Brunnen. Wir werden gegen 10:00 Uhr in der Barockstadt Fulda ankommen\, wo vier Gärten auf die Besichtigung warten: Wasser-Garten\, Genuss-Garten\, Kultur-Garten\, Sonnen-Garten. Da ist sicher für jedes Interesse etwas dabei und es finden sich Anregungen für den eigenen Garten. Im Gegensatz zu der LGS in Freyung\, wo der Schwerpunkt auf Wald und Landschaft liegt\, sind hier die zentralen Themen die urbane Landwirtschaft und Biodiversität sowie die gewerblich-industriell geprägte Kulturlandschaft. Somit wird es interessant sein\, die beiden Konzepte kennenzulernen und gegenüberzustellen. Das Gelände in Fulda ist mit 42 ha relativ groß\, aber es gibt Shuttlebusse zwischen den einzelnen Geländeteilen. \nNeben der LGS bietet die Barockstadt Fulda viele sehenswerte Orte: Da gibt es den Dahliengarten\, zwei Klostergärten\, den Dom mit einem Rosengarten\, das barocke Zentrum der Stadt\, mehrere historische Kirchen und Abteien\, Parks und vieles mehr. Es wird also kein Problem sein\, nach dem Besuch der LGS noch ein weiteres Highlight in Fulda zu finden\, bevor es nach einer gemeinsamen Brotzeit wieder nachhause geht. \nDie Fahrt mit Eintritt kostet 45\,- € für Mitglieder und 50\,- € für Nicht-Mitglieder. \nFür beide Fahrten (Freyung und Fulda) gilt: Familien mit Kindern bietet wir gerne einen Familienpreis an\, meldet euch. Das Geld wird jeweils während der Fahrt im Bus eingesammelt. Dann bekommen die Teilnehmer auch die Tickets für die Gartenschauen und weiter Informationen zum Ablauf der Fahrt. Bitte macht auch Freunde und Nachbarn auf unsere Ausflüge aufmerksam.
URL:https://poelling.bayern/kalender/ausflug-zur-lgs-fulda-und-dahlien-garten/
ORGANIZER;CN="OGV P%C3%B6lling":MAILTO:ogv-poelling@gmx.de
END:VEVENT
BEGIN:VEVENT
DTSTART;TZID=Europe/Berlin:20230909T190000
DTEND;TZID=Europe/Berlin:20230909T235900
DTSTAMP:20260421T092959
CREATED:20230227T232428Z
LAST-MODIFIED:20230228T001209Z
UID:1560-1694286000-1694303940@poelling.bayern
SUMMARY:Stadl-Fest in Rittershof
DESCRIPTION:
URL:https://poelling.bayern/kalender/stadl-fest-in-rittershof/
END:VEVENT
BEGIN:VEVENT
DTSTART;VALUE=DATE:20230916
DTEND;VALUE=DATE:20230917
DTSTAMP:20260421T092959
CREATED:20230227T202205Z
LAST-MODIFIED:20230328T101942Z
UID:1485-1694822400-1694908799@poelling.bayern
SUMMARY:Ausflug nach Frauenberg und Kallmünz
DESCRIPTION:Ausflug nach Frauenberg und Kallmünz zusammen mit der Pfarrei. \nDer PGR von St. Martin plant für den Ausflug nach Frauenberg und Kallmünz eine Abfahrt um 9:00 vor der Kirche St. Martin und eine weitere Zustiegsmöglichkeit an der Kirche St. Walburga in Holzheim. \nReserviert Euch diesen Termin schon mal. Geplant ist eine „Botanische Führung“ und anschließend eine Andacht in der Wallfahrtskirche in Frauenberg. Ein Besuch von Kallmünz rundet die Fahrt ab. \nAnmeldung direkt über das Pfarramt St. Martin oder über den OGV Pölling (bitte nicht gleichzeitig an beide).
URL:https://poelling.bayern/kalender/pfarrausflug/
LOCATION:Kirche St. Martin\, Pölling\, St.-Martin-Straße 10\, Pölling\, 92318\, Deutschland
END:VEVENT
BEGIN:VEVENT
DTSTART;TZID=Europe/Berlin:20230917T090000
DTEND;TZID=Europe/Berlin:20230917T100000
DTSTAMP:20260421T092959
CREATED:20230228T001449Z
LAST-MODIFIED:20230228T001449Z
UID:1578-1694941200-1694944800@poelling.bayern
SUMMARY:Fliegermesse im Hangar
DESCRIPTION:
URL:https://poelling.bayern/kalender/fliegermesse-im-hangar/
LOCATION:Flugplatz Neumarkt\, Nürnberger Straße 23\, Neumarkt\, 92318\, Deutschland
ORGANIZER;CN="Flugsportvereinigung Neumart":MAILTO:info@flugsport-neumarkt.de
END:VEVENT
BEGIN:VEVENT
DTSTART;TZID=Europe/Berlin:20230917T150000
DTEND;TZID=Europe/Berlin:20230917T150000
DTSTAMP:20260421T092959
CREATED:20230322T134742Z
LAST-MODIFIED:20230729T171331Z
UID:1656-1694962800-1694962800@poelling.bayern
SUMMARY:„Die Oberpfalz in Bild\, Ton und Film“ – Referent: Simon Süß
DESCRIPTION:Über drei Jahre war Simon Süß in der Oberpfalz unterwegs. Seine Mission: die Vielfalt unseres schönen Bezirks zu fotografieren.  \nFreuen dürfen wir uns auf einen lebendigen Vortrag mit vielen Bildern\, die unsere schöne Oberpfalz von vielen Seiten zeigt\, die selbst den Einheimischen oft nicht bekannt sind. \nLink zu mehr Infos: \nhttps://br.de/s/5pxV5vT
URL:https://poelling.bayern/kalender/lebendige-oberpfalz-in-wort-und-bild/
LOCATION:Bürgerzentrum in der alten Schule\, St.-Martin-Straße 9\, Pölling\, 92318\, Deutschland
ORGANIZER;CN="Heimat- und Kulturverein":MAILTO:richard_graf@gmx.de
END:VEVENT
BEGIN:VEVENT
DTSTART;TZID=Europe/Berlin:20230919T190000
DTEND;TZID=Europe/Berlin:20230919T210000
DTSTAMP:20260421T092959
CREATED:20230226T234236Z
LAST-MODIFIED:20230226T234236Z
UID:1412-1695150000-1695157200@poelling.bayern
SUMMARY:Vorstände-Treffen
DESCRIPTION:Die Vorstände der Vereine und Gruppen aus Pölling und Rittershof treffen sich regelmäßig\, um die künftigen Veranstaltungen abzustimmen. \nWir wollen damit Überschneidungen vermeiden und die jeweiligen Aktivitäten gegenseitig unterstützen. \nDer Vorsitz wechselt unter den Vereinen jährlich.
URL:https://poelling.bayern/kalender/vorstaende-treffen/
LOCATION:Sportstüberl SVP\, Sportheimstraße 10B\, Pölling\, 92318\, Deutschland
ORGANIZER;CN="Heimat- und Kulturverein":MAILTO:richard_graf@gmx.de
END:VEVENT
BEGIN:VEVENT
DTSTART;TZID=Europe/Berlin:20230921T080000
DTEND;TZID=Europe/Berlin:20230921T170000
DTSTAMP:20260421T092959
CREATED:20230907T153147Z
LAST-MODIFIED:20230907T153147Z
UID:1813-1695283200-1695315600@poelling.bayern
SUMMARY:Probetag Orchester Kunterbunt
DESCRIPTION:Details folgen
URL:https://poelling.bayern/kalender/probetag-orchester-kunterbunt/
LOCATION:Bürgerzentrum in der alten Schule\, St.-Martin-Straße 9\, Pölling\, 92318\, Deutschland
ORGANIZER;CN="Orchester Kunterbunt":MAILTO:heidi.rackl@t-online.de
END:VEVENT
BEGIN:VEVENT
DTSTART;TZID=Europe/Berlin:20230923T083000
DTEND;TZID=Europe/Berlin:20230923T113000
DTSTAMP:20260421T092959
CREATED:20230404T122032Z
LAST-MODIFIED:20230404T122032Z
UID:1675-1695457800-1695468600@poelling.bayern
SUMMARY:Kleider- und Spielzeugbasar
DESCRIPTION:Details folgen noch
URL:https://poelling.bayern/kalender/kleider-und-spielzeugbasar/
LOCATION:Mittelschule West\, Woffenbacher Str. 36-38\, Woffenbach\, 92318\, Deutschland
ORGANIZER;CN="Heimat- und Kulturverein":MAILTO:richard_graf@gmx.de
END:VEVENT
BEGIN:VEVENT
DTSTART;TZID=Europe/Berlin:20230924T140000
DTEND;TZID=Europe/Berlin:20230924T190000
DTSTAMP:20260421T092959
CREATED:20230226T235407Z
LAST-MODIFIED:20230226T235407Z
UID:1414-1695564000-1695582000@poelling.bayern
SUMMARY:Spaziergang nach Stauf\, Besuch Schützenhaus
DESCRIPTION:Bei einem (kurzen) Spaziergang von Pölling nach Stauf wollen wir die Natur genießen und unsere Nachbarn besuchen. Im Schützenhaus Stauf gibt es dann eine kleine Stärkung und die Gelegenheit die eigene Treffsicherheit zu prüfen. Für die Rückkehr nach Pölling können wir Mitfahrgelegenheiten organisieren\, oder nochmals ein paar Schritte gehen 🙂 \nStartpunkt ist das Bürgerzentrum in der alten Schule
URL:https://poelling.bayern/kalender/spaziergang-nach-stauf-besuch-schuetzenhaus/
LOCATION:Bürgerzentrum in der alten Schule\, St.-Martin-Straße 9\, Pölling\, 92318\, Deutschland
ORGANIZER;CN="Heimat- und Kulturverein":MAILTO:richard_graf@gmx.de
END:VEVENT
BEGIN:VEVENT
DTSTART;VALUE=DATE:20230930
DTEND;VALUE=DATE:20231001
DTSTAMP:20260421T092959
CREATED:20230226T235739Z
LAST-MODIFIED:20230226T235906Z
UID:1416-1696032000-1696118399@poelling.bayern
SUMMARY:Tagesfahrt Mödlareuth
DESCRIPTION:Anmeldung u.a. bei Heidi Rackl: ‭0171 7609172‬ \nTreffpunk für Anreise mit Bus: Gasthaus Feihl\, Pölling \nWeitere Details folgen.
URL:https://poelling.bayern/kalender/tagesfahrt-moedlareuth/
ORGANIZER;CN="Heimat- und Kulturverein":MAILTO:richard_graf@gmx.de
END:VEVENT
END:VCALENDAR