BEGIN:VCALENDAR
VERSION:2.0
PRODID:-//Pölling - ECPv6.15.14//NONSGML v1.0//EN
CALSCALE:GREGORIAN
METHOD:PUBLISH
X-WR-CALNAME:Pölling
X-ORIGINAL-URL:https://poelling.bayern
X-WR-CALDESC:Veranstaltungen für Pölling
REFRESH-INTERVAL;VALUE=DURATION:PT1H
X-Robots-Tag:noindex
X-PUBLISHED-TTL:PT1H
BEGIN:VTIMEZONE
TZID:Europe/Berlin
BEGIN:DAYLIGHT
TZOFFSETFROM:+0100
TZOFFSETTO:+0200
TZNAME:CEST
DTSTART:20220327T010000
END:DAYLIGHT
BEGIN:STANDARD
TZOFFSETFROM:+0200
TZOFFSETTO:+0100
TZNAME:CET
DTSTART:20221030T010000
END:STANDARD
BEGIN:DAYLIGHT
TZOFFSETFROM:+0100
TZOFFSETTO:+0200
TZNAME:CEST
DTSTART:20230326T010000
END:DAYLIGHT
BEGIN:STANDARD
TZOFFSETFROM:+0200
TZOFFSETTO:+0100
TZNAME:CET
DTSTART:20231029T010000
END:STANDARD
BEGIN:DAYLIGHT
TZOFFSETFROM:+0100
TZOFFSETTO:+0200
TZNAME:CEST
DTSTART:20240331T010000
END:DAYLIGHT
BEGIN:STANDARD
TZOFFSETFROM:+0200
TZOFFSETTO:+0100
TZNAME:CET
DTSTART:20241027T010000
END:STANDARD
END:VTIMEZONE
BEGIN:VEVENT
DTSTART;TZID=Europe/Berlin:20231001T140000
DTEND;TZID=Europe/Berlin:20231001T180000
DTSTAMP:20260421T075501
CREATED:20230920T190358Z
LAST-MODIFIED:20230920T190358Z
UID:1823-1696168800-1696183200@poelling.bayern
SUMMARY:Tag der offenen Kirchentür
DESCRIPTION:
URL:https://poelling.bayern/kalender/tag-der-offenen-kirchentuer/
LOCATION:Kirche St. Martin\, Pölling\, St.-Martin-Straße 10\, Pölling\, 92318\, Deutschland
END:VEVENT
BEGIN:VEVENT
DTSTART;TZID=Europe/Berlin:20231003T160000
DTEND;TZID=Europe/Berlin:20231003T160000
DTSTAMP:20260421T075501
CREATED:20230622T173744Z
LAST-MODIFIED:20230927T194044Z
UID:1737-1696348800-1696348800@poelling.bayern
SUMMARY:Klänge – Gedanken – Berichte – Bewegung – in Gedanken an Franz v. Assisi
DESCRIPTION:Einen Meditativen Tanztag mit Gedanken\, Texten\, Liedern und Erinnerungen an Franz von Assisi gestalten Heidi Rackl und Maria Alfer am 3. Oktober. \nInteressierte können hineinschnuppern in den Meditativen Tanz und einzelne Tanzschritte erlernen. Mit Bildern\, Texten\, musikalischen Beiträgen möchte man an Franz von Assisi erinnern – Jahrestag ist der 4. Oktober. \nFür Kaffee\, kalte Getränke und kleine Snacks ist gesorgt\, Verpflegung kann auch selbst mitgebracht werden. \nLassen Sie sich überraschen\, geboten wir Meditatives Tanzen\, Bilder\, Musik\, Gespräche ufm.
URL:https://poelling.bayern/kalender/meditativer-tanz-tag/
LOCATION:Bürgerzentrum in der alten Schule\, St.-Martin-Straße 9\, Pölling\, 92318\, Deutschland
ORGANIZER;CN="Heidi Rackl":MAILTO:heidi.rackl@t-online.de
END:VEVENT
BEGIN:VEVENT
DTSTART;TZID=Europe/Berlin:20231006T190000
DTEND;TZID=Europe/Berlin:20231006T190000
DTSTAMP:20260421T075501
CREATED:20230920T190836Z
LAST-MODIFIED:20230926T092510Z
UID:1826-1696618800-1696618800@poelling.bayern
SUMMARY:JHV der Blaskapelle Pölling
DESCRIPTION:Mit Neuwahlen
URL:https://poelling.bayern/kalender/jhv-der-blaskapelle-poelling/
LOCATION:Charite\, Pfarrgarten Pölling\, St.-Martin-Straße 11\, Pölling\, 92318
ORGANIZER;CN="Blaskapelle P%C3%B6lling":MAILTO:info@blaskapelle-poelling.de
END:VEVENT
BEGIN:VEVENT
DTSTART;VALUE=DATE:20231007
DTEND;VALUE=DATE:20231008
DTSTAMP:20260421T075501
CREATED:20230227T213831Z
LAST-MODIFIED:20230920T190031Z
UID:1513-1696636800-1696723199@poelling.bayern
SUMMARY:Vereinsausflug der FFW Pölling
DESCRIPTION:Ziel steht noch nicht fest \nTreffpunkt Bürgerzentrum \n 
URL:https://poelling.bayern/kalender/vereinsausflug-der-ffw-poelling/
ORGANIZER;CN="FFW P%C3%B6lling":MAILTO:Martin.rupp@klebl.de
END:VEVENT
BEGIN:VEVENT
DTSTART;TZID=Europe/Berlin:20231007T090000
DTEND;TZID=Europe/Berlin:20231007T113000
DTSTAMP:20260421T075501
CREATED:20230927T134440Z
LAST-MODIFIED:20230927T134440Z
UID:1936-1696669200-1696678200@poelling.bayern
SUMMARY:Kleidertauschbörse
DESCRIPTION:
URL:https://poelling.bayern/kalender/kleidertauschboerse-2/
LOCATION:Bürgerzentrum in der alten Schule\, St.-Martin-Straße 9\, Pölling\, 92318\, Deutschland
ORGANIZER;CN="B%C3%BCrgerzentrum in der alten Schule":MAILTO:Anna.Lehrer@neumarkt.de
END:VEVENT
BEGIN:VEVENT
DTSTART;TZID=Europe/Berlin:20231010T180000
DTEND;TZID=Europe/Berlin:20231010T200000
DTSTAMP:20260421T075501
CREATED:20230927T105905Z
LAST-MODIFIED:20230927T105905Z
UID:1926-1696960800-1696968000@poelling.bayern
SUMMARY:Land & Leute -  Ungarn
DESCRIPTION:
URL:https://poelling.bayern/kalender/land-leute-ungarn/
END:VEVENT
BEGIN:VEVENT
DTSTART;TZID=Europe/Berlin:20231014T090000
DTEND;TZID=Europe/Berlin:20231014T130000
DTSTAMP:20260421T075501
CREATED:20230920T191808Z
LAST-MODIFIED:20230920T191919Z
UID:1829-1697274000-1697288400@poelling.bayern
SUMMARY:25. Neumarkter Obstbörse
DESCRIPTION:Weitere Infos siehe Link: \nhttps://www.hausamhabsberg.de/artikel/25-neumarkter-obstboerse-am-samstag-14-oktober-vor-dem-landratsamt.html
URL:https://poelling.bayern/kalender/25-neumarkter-obstboerse/
LOCATION:Vorplatz des Landratsamtes Neumarkt\, Nürnberger Str. 1\, 92318 Neumarkt\, Deutschland
ORGANIZER;CN="OGV P%C3%B6lling":MAILTO:ogv-poelling@gmx.de
END:VEVENT
BEGIN:VEVENT
DTSTART;TZID=Europe/Berlin:20231014T140000
DTEND;TZID=Europe/Berlin:20231014T170000
DTSTAMP:20260421T075501
CREATED:20230926T140637Z
LAST-MODIFIED:20230926T141016Z
UID:1913-1697292000-1697302800@poelling.bayern
SUMMARY:"Rama dama"\, Aufräum-Aktion für Pölling und Rittershof
DESCRIPTION:Es sind ALLE herzlichst eingeladen\, sich an der Aufräum-Aktion zu beteiligen. Damit sollen nicht nur unsere Ortsteile sauberer werden\, es schärft auch unseren Sinn für sorgfältigen Umgang mit unserer Umwelt.
URL:https://poelling.bayern/kalender/rama-dama-aufraeum-aktion-fuer-poelling-und-rittershof/
LOCATION:Sportplatz SV Pölling\, Sportheimstraße 10B\, Pölling\, 92318
ORGANIZER;CN="Heimat- und Kulturverein":MAILTO:richard_graf@gmx.de
END:VEVENT
BEGIN:VEVENT
DTSTART;TZID=Europe/Berlin:20231014T180000
DTEND;TZID=Europe/Berlin:20231014T220000
DTSTAMP:20260421T075501
CREATED:20230926T094618Z
LAST-MODIFIED:20230926T094911Z
UID:1860-1697306400-1697320800@poelling.bayern
SUMMARY:Kreischortag
DESCRIPTION:https://gesangverein-poelling.de/veranstaltungen/kreischortag/
URL:https://poelling.bayern/kalender/kreischortag/
LOCATION:Aula Landratsamt\, Nürnberger Straßa 1\, Neumarkt\, 92318
ORGANIZER;CN="Gesangverein":MAILTO:Paulus_poelling@t-online.de
END:VEVENT
BEGIN:VEVENT
DTSTART;TZID=Europe/Berlin:20231015T150000
DTEND;TZID=Europe/Berlin:20231015T180000
DTSTAMP:20260421T075501
CREATED:20230907T143752Z
LAST-MODIFIED:20230907T144604Z
UID:1791-1697382000-1697392800@poelling.bayern
SUMMARY:Tanzkaffee
DESCRIPTION:Der Heimat- und Kulturverein Pölling lädt ein zum Tanz. Für die Live-Musik sorgt Erwin Radschinsky mit seinem großen Repertoire an Musik. Alle\, die schon lange einmal wieder das Tanzbein schwingen wollten\, sind herzlich eingeladen. Die Veranstaltung findet am 15.10. im Bürgerzentrum Pölling statt\, Beginn ist um 15 Uhr\, Eintritt kostet 5 Euro.
URL:https://poelling.bayern/kalender/tanzkaffee/
LOCATION:Bürgerzentrum in der alten Schule\, St.-Martin-Straße 9\, Pölling\, 92318\, Deutschland
ORGANIZER;CN="Heimat- und Kulturverein":MAILTO:richard_graf@gmx.de
END:VEVENT
BEGIN:VEVENT
DTSTART;TZID=Europe/Berlin:20231016T180000
DTEND;TZID=Europe/Berlin:20231016T200000
DTSTAMP:20260421T075501
CREATED:20230927T110246Z
LAST-MODIFIED:20230927T110246Z
UID:1928-1697479200-1697486400@poelling.bayern
SUMMARY:Social Media Schulung für Vereine und Orgas - Anfänger
DESCRIPTION:Anmeldungen erforderlich\, begrenzte TN-Zahl
URL:https://poelling.bayern/kalender/social-media-schulung-fuer-vereine-und-orgas-anfaenger/
LOCATION:Bürgerzentrum in der alten Schule\, St.-Martin-Straße 9\, Pölling\, 92318\, Deutschland
ORGANIZER;CN="B%C3%BCrgerzentrum in der alten Schule":MAILTO:Anna.Lehrer@neumarkt.de
END:VEVENT
BEGIN:VEVENT
DTSTART;TZID=Europe/Berlin:20231021T140000
DTEND;TZID=Europe/Berlin:20231021T150000
DTSTAMP:20260421T075501
CREATED:20230227T001026Z
LAST-MODIFIED:20230926T100525Z
UID:1420-1697896800-1697900400@poelling.bayern
SUMMARY:Jahreshauptversammlung\, HKV
DESCRIPTION:Jahreshauptversammlung des HKV \nEinladung und Tagesordnung gehen auf dem Postweg rechtzeitig zu. \nDirekt im Anschluß zur JHV wird uns die Gruppe „Bernstein“ mit Musik verwöhnen\, bei der wir den Abend ausklingen lassen.
URL:https://poelling.bayern/kalender/jahreshauptversammlung-2/
LOCATION:Bürgerzentrum in der alten Schule\, St.-Martin-Straße 9\, Pölling\, 92318\, Deutschland
ORGANIZER;CN="Heimat- und Kulturverein":MAILTO:richard_graf@gmx.de
END:VEVENT
BEGIN:VEVENT
DTSTART;TZID=Europe/Berlin:20231021T150000
DTEND;TZID=Europe/Berlin:20231021T190000
DTSTAMP:20260421T075501
CREATED:20230227T002034Z
LAST-MODIFIED:20230926T101109Z
UID:1424-1697900400-1697914800@poelling.bayern
SUMMARY:Wiener Kaffeehaus-Nachmittag mit musikalischer Umrahmung durch das „Bernstein-Ensemble“
DESCRIPTION:Wer einen gemütlichen Nachmittag in einem Wiener Kaffeehaus erleben will\, muss am 21. Oktober dabei sein. Kaffeehausmusik mit dem „Bernstein-Ensemble“\, Kaffeehaus-Spezialitäten\, dazu Apfelstrudel und Sacher-Torte – das alles ist geplant und das Team Heimat- und Kulturverein freut sich auf eine rege Teilnahme\, Beginn ist um 15 Uhr. Beim Ensemble dabei sind neben weiteren Musikerinnen Evi Ebert\, Leiterin des Orchesters Kunterbunt und Svetlana Yarova\, eine Topgeigerin aus der Ukraine\, die mit ihrer Familie in Pölling wohnt. Der Eintritt kostet 8 Euro. Karten gibt es bei Richard Graf\, Heidi Rackl und im Bürgerzentrum in Pölling. \nLassen Sie sich verzaubern und entführen in die schöne Stadt Wien\, wo es an vielen Ecken schöne Kaffeehäuser gibt. Bei wunderbarer Musik und Kaffee-Spezialitäten à la Österreich laden wir ein zum unterhaltsamen Nachmittag. \nDer Eintritt kostet 8 Euro. \nKarten gibt es bei Richard Graf\, Heidi Rackl und im Bürgerzentrum in Pölling.
URL:https://poelling.bayern/kalender/musikveranstaltung-gruppe-bernstein/
LOCATION:Bürgerzentrum in der alten Schule\, St.-Martin-Straße 9\, Pölling\, 92318\, Deutschland
ORGANIZER;CN="Heimat- und Kulturverein":MAILTO:richard_graf@gmx.de
END:VEVENT
END:VCALENDAR