BEGIN:VCALENDAR
VERSION:2.0
PRODID:-//Pölling - ECPv6.15.14//NONSGML v1.0//EN
CALSCALE:GREGORIAN
METHOD:PUBLISH
X-WR-CALNAME:Pölling
X-ORIGINAL-URL:https://poelling.bayern
X-WR-CALDESC:Veranstaltungen für Pölling
REFRESH-INTERVAL;VALUE=DURATION:PT1H
X-Robots-Tag:noindex
X-PUBLISHED-TTL:PT1H
BEGIN:VTIMEZONE
TZID:Europe/Berlin
BEGIN:DAYLIGHT
TZOFFSETFROM:+0100
TZOFFSETTO:+0200
TZNAME:CEST
DTSTART:20230326T010000
END:DAYLIGHT
BEGIN:STANDARD
TZOFFSETFROM:+0200
TZOFFSETTO:+0100
TZNAME:CET
DTSTART:20231029T010000
END:STANDARD
BEGIN:DAYLIGHT
TZOFFSETFROM:+0100
TZOFFSETTO:+0200
TZNAME:CEST
DTSTART:20240331T010000
END:DAYLIGHT
BEGIN:STANDARD
TZOFFSETFROM:+0200
TZOFFSETTO:+0100
TZNAME:CET
DTSTART:20241027T010000
END:STANDARD
BEGIN:DAYLIGHT
TZOFFSETFROM:+0100
TZOFFSETTO:+0200
TZNAME:CEST
DTSTART:20250330T010000
END:DAYLIGHT
BEGIN:STANDARD
TZOFFSETFROM:+0200
TZOFFSETTO:+0100
TZNAME:CET
DTSTART:20251026T010000
END:STANDARD
END:VTIMEZONE
BEGIN:VEVENT
DTSTART;TZID=Europe/Berlin:20240302T190000
DTEND;TZID=Europe/Berlin:20240302T190000
DTSTAMP:20260420T234937
CREATED:20240223T211500Z
LAST-MODIFIED:20240223T211500Z
UID:2008-1709406000-1709406000@poelling.bayern
SUMMARY:Jahreshautpversammlung FF Rittershof
DESCRIPTION:
URL:https://poelling.bayern/kalender/jahreshautpversammlung-ff-rittershof/
LOCATION:Feuerwehrhaus Rittershof\, Simelsbühl 15\, Rittershof\, 92318\, Deutschland
ORGANIZER;CN="FFW Rittershof":MAILTO:karina.schmid@gmx.de
END:VEVENT
BEGIN:VEVENT
DTSTART;TZID=Europe/Berlin:20240309T083000
DTEND;TZID=Europe/Berlin:20240309T110000
DTSTAMP:20260420T234938
CREATED:20240109T115030Z
LAST-MODIFIED:20240109T115030Z
UID:1992-1709973000-1709982000@poelling.bayern
SUMMARY:Kleider- und Spielzeugbasar
DESCRIPTION:An alle Verkäufer- / innen: Bitte registriert Euch vorab über easybasar.de. \nZeitpunkt der online-Listenvergabe: Freitag 16.02.2024\, 20 Uhr \nNach erfolgreicher Zuteilung einer Verkäufernummer können auf easybasar.de Artikel erfasst werden. Weitere Infos auf www.basar-poelling.jimdo.de. \n12% des Verkaufspreises werden einbehalten und für wohltätige Zwecke gespendet!
URL:https://poelling.bayern/kalender/kleider-und-spielzeugbasar-2/
LOCATION:Mittelschule West\, Woffenbacher Str. 36-38\, Woffenbach\, 92318\, Deutschland
ATTACH;FMTTYPE=image/jpeg:https://poelling.bayern/wp-content/uploads/2024/01/IMG-20240105-WA0010.jpg
END:VEVENT
BEGIN:VEVENT
DTSTART;TZID=Europe/Berlin:20240309T143000
DTEND;TZID=Europe/Berlin:20240309T143000
DTSTAMP:20260420T234938
CREATED:20240223T211702Z
LAST-MODIFIED:20240223T211702Z
UID:2010-1709994600-1709994600@poelling.bayern
SUMMARY:Jahreshautpversammlung OGV Rittershof
DESCRIPTION:
URL:https://poelling.bayern/kalender/jahreshautpversammlung-ogv-rittershof/
LOCATION:Feuerwehrhaus Rittershof\, Simelsbühl 15\, Rittershof\, 92318\, Deutschland
END:VEVENT
BEGIN:VEVENT
DTSTART;TZID=Europe/Berlin:20240312T190000
DTEND;TZID=Europe/Berlin:20240312T210000
DTSTAMP:20260420T234938
CREATED:20240206T152721Z
LAST-MODIFIED:20240223T212440Z
UID:1999-1710270000-1710277200@poelling.bayern
SUMMARY:Jahreshauptversammlung des Heimat- und Kulturvereins (HKV)
DESCRIPTION:Agenda: \n\nBegrüßung\nBericht des Vorstandes\nBericht der Schatzmeisterin\nBericht des Schriftführers\nBericht zur Nachbarschaftshilfe\nBericht der ‚Bixn&Burschn‘\nInformationen zu anstehenden Veranstaltungen\nKünftige Schwerpunkte des Vereins\nAnregungen\, Wünsche\, Sonstiges\n\nFalls wir noch weitere Themen mit auf die Agenda nehmen sollen\, bitte ich Dich um eine kurze Info bis zum 8.3.24 an:  richard_graf@gmx.de \nWir freuen uns sehr auf Deine Teilnahme und hoffen auf einen regen Austausch.
URL:https://poelling.bayern/kalender/jahreshauptversammlung-des-heimat-und-kulturvereins-hkv/
LOCATION:Bürgerzentrum in der alten Schule\, St.-Martin-Straße 9\, Pölling\, 92318\, Deutschland
ORGANIZER;CN="Heimat- und Kulturverein":MAILTO:richard_graf@gmx.de
END:VEVENT
BEGIN:VEVENT
DTSTART;TZID=Europe/Berlin:20240317T143000
DTEND;TZID=Europe/Berlin:20240317T173000
DTSTAMP:20260420T234938
CREATED:20240223T212839Z
LAST-MODIFIED:20240223T212908Z
UID:2015-1710685800-1710696600@poelling.bayern
SUMMARY:Jahreshautpversammlung OGV Pölling
DESCRIPTION:
URL:https://poelling.bayern/kalender/jahreshautpversammlung-ogv-poelling/
LOCATION:Charite\, Pfarrgarten Pölling\, St.-Martin-Straße 11\, Pölling\, 92318
ORGANIZER;CN="OGV P%C3%B6lling":MAILTO:ogv-poelling@gmx.de
END:VEVENT
BEGIN:VEVENT
DTSTART;TZID=Europe/Berlin:20240319T183000
DTEND;TZID=Europe/Berlin:20240319T193000
DTSTAMP:20260420T234938
CREATED:20240223T213846Z
LAST-MODIFIED:20240223T214109Z
UID:2017-1710873000-1710876600@poelling.bayern
SUMMARY:Gottesdienst zum Festtag "Heiliger Josef"
DESCRIPTION:
URL:https://poelling.bayern/kalender/gottesdienst-zum-festtag-heiliger-josef/
LOCATION:Kirche Heilig Kreuz\, Schafhofstraße\, Neumarkt\, 92318\, Deutschland
END:VEVENT
BEGIN:VEVENT
DTSTART;TZID=Europe/Berlin:20240323T090000
DTEND;TZID=Europe/Berlin:20240323T110000
DTSTAMP:20260420T234938
CREATED:20240223T214410Z
LAST-MODIFIED:20240223T214417Z
UID:2020-1711184400-1711191600@poelling.bayern
SUMMARY:Internationales Frauenfrühstück
DESCRIPTION:
URL:https://poelling.bayern/kalender/internationales-frauenfruehstueck-2/
LOCATION:Bürgerzentrum in der alten Schule\, St.-Martin-Straße 9\, Pölling\, 92318\, Deutschland
ORGANIZER;CN="B%C3%BCrgerzentrum in der alten Schule":MAILTO:Anna.Lehrer@neumarkt.de
END:VEVENT
BEGIN:VEVENT
DTSTART;TZID=Europe/Berlin:20240323T173000
DTEND;TZID=Europe/Berlin:20240323T173000
DTSTAMP:20260420T234938
CREATED:20230926T131537Z
LAST-MODIFIED:20230926T131803Z
UID:1904-1711215000-1711215000@poelling.bayern
SUMMARY:Bockbierfest des SV Pölling
DESCRIPTION:Details hierzu siehe: \nhttps://www.sv-poelling.de
URL:https://poelling.bayern/kalender/bockbierfest-des-sv-poelling/
LOCATION:Sportstüberl SVP\, Sportheimstraße 10B\, Pölling\, 92318\, Deutschland
ORGANIZER;CN="SV P%C3%B6lling":MAILTO:vorstand@sv-poelling.de
END:VEVENT
BEGIN:VEVENT
DTSTART;TZID=Europe/Berlin:20240324T150000
DTEND;TZID=Europe/Berlin:20240324T180000
DTSTAMP:20260420T234938
CREATED:20230907T145647Z
LAST-MODIFIED:20230907T145647Z
UID:1797-1711292400-1711303200@poelling.bayern
SUMMARY:Tanzkaffee
DESCRIPTION:Der Heimat- und Kulturverein Pölling lädt jeden letzten Sonntag im Monat ein zum Tanz (ohne August und Dezember). Für die Live-Musik sorgt Erwin Radschinsky mit seinem großen Repertoire an Musik. Alle\, die schon lange einmal wieder das Tanzbein schwingen wollten\, sind herzlich eingeladen. Beginn ist um 15 Uhr\, Eintritt kostet 5 Euro.
URL:https://poelling.bayern/kalender/tanzkaffee-4/
LOCATION:Bürgerzentrum in der alten Schule\, St.-Martin-Straße 9\, Pölling\, 92318\, Deutschland
ORGANIZER;CN="Heimat- und Kulturverein":MAILTO:richard_graf@gmx.de
END:VEVENT
END:VCALENDAR