BEGIN:VCALENDAR
VERSION:2.0
PRODID:-//Pölling - ECPv6.15.14//NONSGML v1.0//EN
CALSCALE:GREGORIAN
METHOD:PUBLISH
X-ORIGINAL-URL:https://poelling.bayern
X-WR-CALDESC:Veranstaltungen für Pölling
REFRESH-INTERVAL;VALUE=DURATION:PT1H
X-Robots-Tag:noindex
X-PUBLISHED-TTL:PT1H
BEGIN:VTIMEZONE
TZID:Europe/Berlin
BEGIN:DAYLIGHT
TZOFFSETFROM:+0100
TZOFFSETTO:+0200
TZNAME:CEST
DTSTART:20230326T010000
END:DAYLIGHT
BEGIN:STANDARD
TZOFFSETFROM:+0200
TZOFFSETTO:+0100
TZNAME:CET
DTSTART:20231029T010000
END:STANDARD
BEGIN:DAYLIGHT
TZOFFSETFROM:+0100
TZOFFSETTO:+0200
TZNAME:CEST
DTSTART:20240331T010000
END:DAYLIGHT
BEGIN:STANDARD
TZOFFSETFROM:+0200
TZOFFSETTO:+0100
TZNAME:CET
DTSTART:20241027T010000
END:STANDARD
BEGIN:DAYLIGHT
TZOFFSETFROM:+0100
TZOFFSETTO:+0200
TZNAME:CEST
DTSTART:20250330T010000
END:DAYLIGHT
BEGIN:STANDARD
TZOFFSETFROM:+0200
TZOFFSETTO:+0100
TZNAME:CET
DTSTART:20251026T010000
END:STANDARD
END:VTIMEZONE
BEGIN:VEVENT
DTSTART;TZID=Europe/Berlin:20240401T110000
DTEND;TZID=Europe/Berlin:20240407T200000
DTSTAMP:20260420T223456
CREATED:20240106T235421Z
LAST-MODIFIED:20240108T135914Z
UID:1979-1711969200-1712520000@poelling.bayern
SUMMARY:Pfarrverbandswallfahrt nach Rom
DESCRIPTION:https://neumarkt-west.bistum-eichstaett.de/aktuelles/wallfahrt/ \nAnmeldeschluss ist der 15.1.24
URL:https://poelling.bayern/kalender/pfarrverbandswallfahrt-nach-rom/
LOCATION:Rom\, Rom\, Italien
END:VEVENT
BEGIN:VEVENT
DTSTART;TZID=Europe/Berlin:20240413T090000
DTEND;TZID=Europe/Berlin:20240413T120000
DTSTAMP:20260420T223456
CREATED:20240223T220014Z
LAST-MODIFIED:20240223T220014Z
UID:2026-1712998800-1713009600@poelling.bayern
SUMMARY:Kleidertauschbörse (Frühling und Sommersachen)
DESCRIPTION:
URL:https://poelling.bayern/kalender/kleidertauschboerse-fruehling-und-sommersachen/
LOCATION:Bürgerzentrum in der alten Schule\, St.-Martin-Straße 9\, Pölling\, 92318\, Deutschland
ORGANIZER;CN="B%C3%BCrgerzentrum in der alten Schule":MAILTO:Anna.Lehrer@neumarkt.de
END:VEVENT
BEGIN:VEVENT
DTSTART;TZID=Europe/Berlin:20240413T190000
DTEND;TZID=Europe/Berlin:20240413T190000
DTSTAMP:20260420T223456
CREATED:20240223T220247Z
LAST-MODIFIED:20240223T220247Z
UID:2028-1713034800-1713034800@poelling.bayern
SUMMARY:Jahreshauptversammlung FF Pölling mit Neuwahlen
DESCRIPTION:
URL:https://poelling.bayern/kalender/jahreshauptversammlung-ff-poelling-mit-neuwahlen/
LOCATION:Bürgerzentrum in der alten Schule\, St.-Martin-Straße 9\, Pölling\, 92318\, Deutschland
ORGANIZER;CN="FFW P%C3%B6lling":MAILTO:Martin.rupp@klebl.de
END:VEVENT
BEGIN:VEVENT
DTSTART;TZID=Europe/Berlin:20240419T183000
DTEND;TZID=Europe/Berlin:20240419T183000
DTSTAMP:20260420T223456
CREATED:20240223T220504Z
LAST-MODIFIED:20240223T220504Z
UID:2030-1713551400-1713551400@poelling.bayern
SUMMARY:Konzert mit dem Vyshyvanka
DESCRIPTION:
URL:https://poelling.bayern/kalender/konzert-mit-dem-vyshyvanka/
LOCATION:Bürgerzentrum in der alten Schule\, St.-Martin-Straße 9\, Pölling\, 92318\, Deutschland
ORGANIZER;CN="B%C3%BCrgerzentrum in der alten Schule":MAILTO:Anna.Lehrer@neumarkt.de
END:VEVENT
BEGIN:VEVENT
DTSTART;TZID=Europe/Berlin:20240420T090000
DTEND;TZID=Europe/Berlin:20240420T110000
DTSTAMP:20260420T223456
CREATED:20240223T220810Z
LAST-MODIFIED:20240223T220810Z
UID:2032-1713603600-1713610800@poelling.bayern
SUMMARY:Internationales Frauenfrühstück
DESCRIPTION:
URL:https://poelling.bayern/kalender/internationales-frauenfruehstueck-3/
LOCATION:Bürgerzentrum in der alten Schule\, St.-Martin-Straße 9\, Pölling\, 92318\, Deutschland
ORGANIZER;CN="B%C3%BCrgerzentrum in der alten Schule":MAILTO:Anna.Lehrer@neumarkt.de
END:VEVENT
BEGIN:VEVENT
DTSTART;TZID=Europe/Berlin:20240420T140000
DTEND;TZID=Europe/Berlin:20240420T170000
DTSTAMP:20260420T223456
CREATED:20240415T095119Z
LAST-MODIFIED:20240415T095125Z
UID:2160-1713621600-1713632400@poelling.bayern
SUMMARY:"Rama dama"\, Aufräum-Aktion für Pölling und Rittershof
DESCRIPTION:Die letzte Aufräumaktion in Pölling/Rittershof hatte überwältigenden Anklang gefunden (90 Teilnehmer). Wir wollen auf diesem großen Zuspruch aufbauen und auch heuer wieder einen „Frühjahrsputz“ in unserem Ortsteil durchführen. \nEs geht dabei nicht nur um das Säubern der Straßenzüge und Plätze\, es soll auch der Sinn für unsere Umwelt gestärkt werden. Ganz nebenbei wird es sicherlich auch ein interessanter Spaziergang durch den Ort mit angenehmen Gesprächen. \nDie Grundschule und der Kindergarten wird mit den kleinen Helfern und deren Begleitern wieder stark vertreten sein.  \nDie Aktion wird auch bei ungünstigem Wetter stattfinden. Müllsäcke und Greifer werden vom Bauhof gestellt werden. \nTreffpunkt: Samstag\, 20.4.24\, 14:00 Uhr\, Parkplatz SV Pölling  \nBitte gebt die Einladung an Eure Vereinsmitglieder\, Freunde und bekannte weiter.  \nIch freue mich auf Euch 🙂
URL:https://poelling.bayern/kalender/rama-dama-aufraeum-aktion-fuer-poelling-und-rittershof-2/
LOCATION:Sportplatz SV Pölling\, Sportheimstraße 10B\, Pölling\, 92318
ORGANIZER;CN="Heimat- und Kulturverein":MAILTO:richard_graf@gmx.de
END:VEVENT
BEGIN:VEVENT
DTSTART;TZID=Europe/Berlin:20240420T200000
DTEND;TZID=Europe/Berlin:20240420T200000
DTSTAMP:20260420T223456
CREATED:20230926T134627Z
LAST-MODIFIED:20230926T134627Z
UID:1909-1713643200-1713643200@poelling.bayern
SUMMARY:Frühjahrskonzert der Blaskapelle Pölling
DESCRIPTION:Voraussichtlicher Start: 20 Uhr\nDetails folgen unter:\nhttp://www.blaskapelle-pölling.de
URL:https://poelling.bayern/kalender/fruehjahrskonzert-der-blaskapelle-poelling-2/
LOCATION:Reitstadel\, Residenzplatz 3\, Neumarkt\, 92318\, Deutschland
ORGANIZER;CN="Blaskapelle P%C3%B6lling":MAILTO:info@blaskapelle-poelling.de
END:VEVENT
BEGIN:VEVENT
DTSTART;TZID=Europe/Berlin:20240427T100000
DTEND;TZID=Europe/Berlin:20240427T140000
DTSTAMP:20260420T223456
CREATED:20230927T111745Z
LAST-MODIFIED:20230927T203058Z
UID:1934-1714212000-1714226400@poelling.bayern
SUMMARY:2. Neumarkter Freiwilligenmesse
DESCRIPTION:Einladung an alle Vereine schriftlich verschickt
URL:https://poelling.bayern/kalender/freiwilligenmesse/
LOCATION:Bürgerzentrum in der alten Schule\, St.-Martin-Straße 9\, Pölling\, 92318\, Deutschland
ORGANIZER;CN="B%C3%BCrgerzentrum in der alten Schule":MAILTO:Anna.Lehrer@neumarkt.de
END:VEVENT
BEGIN:VEVENT
DTSTART;TZID=Europe/Berlin:20240428T100000
DTEND;TZID=Europe/Berlin:20240428T110000
DTSTAMP:20260420T223456
CREATED:20240223T215030Z
LAST-MODIFIED:20240223T215524Z
UID:2024-1714298400-1714302000@poelling.bayern
SUMMARY:Messe für Verstorbene\, OGV Pölling
DESCRIPTION:
URL:https://poelling.bayern/kalender/messe-fuer-verstorbene-ogv-poelling/
LOCATION:Kirche St. Martin\, Pölling\, St.-Martin-Straße 10\, Pölling\, 92318\, Deutschland
ORGANIZER;CN="OGV P%C3%B6lling":MAILTO:ogv-poelling@gmx.de
END:VEVENT
BEGIN:VEVENT
DTSTART;TZID=Europe/Berlin:20240428T150000
DTEND;TZID=Europe/Berlin:20240428T180000
DTSTAMP:20260420T223456
CREATED:20230907T145913Z
LAST-MODIFIED:20230907T145913Z
UID:1799-1714316400-1714327200@poelling.bayern
SUMMARY:Tanzkaffee
DESCRIPTION:Der Heimat- und Kulturverein Pölling lädt jeden letzten Sonntag im Monat ein zum Tanz (ohne August und Dezember). Für die Live-Musik sorgt Erwin Radschinsky mit seinem großen Repertoire an Musik. Alle\, die schon lange einmal wieder das Tanzbein schwingen wollten\, sind herzlich eingeladen. Beginn ist um 15 Uhr\, Eintritt kostet 5 Euro.
URL:https://poelling.bayern/kalender/tanzkaffee-5/
LOCATION:Bürgerzentrum in der alten Schule\, St.-Martin-Straße 9\, Pölling\, 92318\, Deutschland
ORGANIZER;CN="Heimat- und Kulturverein":MAILTO:richard_graf@gmx.de
END:VEVENT
END:VCALENDAR