BEGIN:VCALENDAR
VERSION:2.0
PRODID:-//Pölling - ECPv6.15.14//NONSGML v1.0//EN
CALSCALE:GREGORIAN
METHOD:PUBLISH
X-WR-CALNAME:Pölling
X-ORIGINAL-URL:https://poelling.bayern
X-WR-CALDESC:Veranstaltungen für Pölling
REFRESH-INTERVAL;VALUE=DURATION:PT1H
X-Robots-Tag:noindex
X-PUBLISHED-TTL:PT1H
BEGIN:VTIMEZONE
TZID:Europe/Berlin
BEGIN:DAYLIGHT
TZOFFSETFROM:+0100
TZOFFSETTO:+0200
TZNAME:CEST
DTSTART:20230326T010000
END:DAYLIGHT
BEGIN:STANDARD
TZOFFSETFROM:+0200
TZOFFSETTO:+0100
TZNAME:CET
DTSTART:20231029T010000
END:STANDARD
BEGIN:DAYLIGHT
TZOFFSETFROM:+0100
TZOFFSETTO:+0200
TZNAME:CEST
DTSTART:20240331T010000
END:DAYLIGHT
BEGIN:STANDARD
TZOFFSETFROM:+0200
TZOFFSETTO:+0100
TZNAME:CET
DTSTART:20241027T010000
END:STANDARD
BEGIN:DAYLIGHT
TZOFFSETFROM:+0100
TZOFFSETTO:+0200
TZNAME:CEST
DTSTART:20250330T010000
END:DAYLIGHT
BEGIN:STANDARD
TZOFFSETFROM:+0200
TZOFFSETTO:+0100
TZNAME:CET
DTSTART:20251026T010000
END:STANDARD
END:VTIMEZONE
BEGIN:VEVENT
DTSTART;VALUE=DATE:20240504
DTEND;VALUE=DATE:20240507
DTSTAMP:20260420T170615
CREATED:20230926T132236Z
LAST-MODIFIED:20230926T132236Z
UID:1906-1714780800-1715039999@poelling.bayern
SUMMARY:Kirchweih Rittershof
DESCRIPTION:
URL:https://poelling.bayern/kalender/kirchweih-rittershof-2/
LOCATION:Feuerwehrhaus Rittershof\, Simelsbühl 15\, Rittershof\, 92318\, Deutschland
END:VEVENT
BEGIN:VEVENT
DTSTART;VALUE=DATE:20240505
DTEND;VALUE=DATE:20240506
DTSTAMP:20260420T170615
CREATED:20240223T221855Z
LAST-MODIFIED:20240223T222156Z
UID:2034-1714867200-1714953599@poelling.bayern
SUMMARY:Florianstag in Dietfurt
DESCRIPTION:
URL:https://poelling.bayern/kalender/florianstag-in-dietfurt/
LOCATION:Dietfurt\, Espanweg 4\, Dietfurt\, 92345\, Deutschland
ORGANIZER;CN="FFW P%C3%B6lling":MAILTO:Martin.rupp@klebl.de
END:VEVENT
BEGIN:VEVENT
DTSTART;TZID=Europe/Berlin:20240506T183000
DTEND;TZID=Europe/Berlin:20240506T193000
DTSTAMP:20260420T170615
CREATED:20240223T222504Z
LAST-MODIFIED:20240223T222504Z
UID:2037-1715020200-1715023800@poelling.bayern
SUMMARY:Sternwallfahrt nach Pölling (Messe)
DESCRIPTION:
URL:https://poelling.bayern/kalender/sternwallfahrt-nach-poelling-messe/
LOCATION:Pfarrgarten St.-Martin\, St.-Martin-Straße 11\, Pölling\, 92318\, Deutschland
END:VEVENT
BEGIN:VEVENT
DTSTART;TZID=Europe/Berlin:20240507T173000
DTEND;TZID=Europe/Berlin:20240507T193000
DTSTAMP:20260420T170615
CREATED:20240223T223119Z
LAST-MODIFIED:20240225T112605Z
UID:2040-1715103000-1715110200@poelling.bayern
SUMMARY:Bittgänge Pölling nach Holzheim und von Woffenbach nach Stauf
DESCRIPTION:Treffpunkt für den Bittgang:\n– von Pölling nach Holzheim:    Kirche St. Martin\n– von Woffenbach nach Stauf:    Kirche St. Willibald \n 
URL:https://poelling.bayern/kalender/bittgaenge-poelling-nach-holzheim-und-von-woffenbach-nach-stauf/
LOCATION:Kirche St. Martin\, Pölling\, St.-Martin-Straße 10\, Pölling\, 92318\, Deutschland
END:VEVENT
BEGIN:VEVENT
DTSTART;TZID=Europe/Berlin:20240509T083000
DTEND;TZID=Europe/Berlin:20240509T113000
DTSTAMP:20260420T170615
CREATED:20240223T223434Z
LAST-MODIFIED:20240223T223434Z
UID:2042-1715243400-1715254200@poelling.bayern
SUMMARY:Christi Himmelfahrt Prozession
DESCRIPTION:
URL:https://poelling.bayern/kalender/christi-himmelfahrt-prozession/
LOCATION:Kirche St. Martin\, Pölling\, St.-Martin-Straße 10\, Pölling\, 92318\, Deutschland
END:VEVENT
BEGIN:VEVENT
DTSTART;TZID=Europe/Berlin:20240511T093000
DTEND;TZID=Europe/Berlin:20240511T110000
DTSTAMP:20260420T170615
CREATED:20240223T224452Z
LAST-MODIFIED:20240223T224452Z
UID:2048-1715419800-1715425200@poelling.bayern
SUMMARY:Firmung St.Martin / St. Willibald
DESCRIPTION:
URL:https://poelling.bayern/kalender/firmung-st-martin-st-willibald/
LOCATION:Kirche St. Willibald\, Woffenbach\, Pfarrer-A-Lang-Platz 3\, Neumarkt/Woffenbach\, 92318\, Deutschland
END:VEVENT
BEGIN:VEVENT
DTSTART;TZID=Europe/Berlin:20240515T173000
DTEND;TZID=Europe/Berlin:20240515T200000
DTSTAMP:20260420T170615
CREATED:20240107T000035Z
LAST-MODIFIED:20240223T225234Z
UID:1982-1715794200-1715803200@poelling.bayern
SUMMARY:Vortrag "DAMIT FRIEDEN WÄCHST: Du machst den Unterschied!“
DESCRIPTION:https://www.keb-neumarkt-roth-schwabach.de/programm/a/8798-damit-frieden-wachst-du-machst-den-unterschied \n„DAMIT FRIEDEN WÄCHST: DU machst den Unterschied“ \nEin Vortrag über die Arbeit des Hilfswerks „Renovabis“. \nBeginn um 18:30 mit der Abendmesse\, anschließend Vortrag. \nThomas Schumann ist Referent für Öffentlichkeitsarbeit bei „Renovabis“. \nMit dem Collegium Orientale \n 
URL:https://poelling.bayern/kalender/vortrag-damit-frieden-waechst-du-machst-den-unterschied/
LOCATION:Charite\, Pfarrgarten Pölling\, St.-Martin-Straße 11\, Pölling\, 92318
END:VEVENT
BEGIN:VEVENT
DTSTART;TZID=Europe/Berlin:20240517T190000
DTEND;TZID=Europe/Berlin:20240517T210000
DTSTAMP:20260420T170615
CREATED:20240223T225627Z
LAST-MODIFIED:20240223T225627Z
UID:2052-1715972400-1715979600@poelling.bayern
SUMMARY:Jahreshauptversammlung\, CSU OV Pölling-Rittershof
DESCRIPTION:
URL:https://poelling.bayern/kalender/jahreshauptversammlung-csu-ov-poelling-rittershof/
LOCATION:Sportstüberl SVP\, Sportheimstraße 10B\, Pölling\, 92318\, Deutschland
ORGANIZER;CN="CSU%2C OV P%C3%B6lling-Rittershof":MAILTO:richard_graf@gmx.de
END:VEVENT
BEGIN:VEVENT
DTSTART;TZID=Europe/Berlin:20240518T090000
DTEND;TZID=Europe/Berlin:20240518T110000
DTSTAMP:20260420T170615
CREATED:20240223T225911Z
LAST-MODIFIED:20240223T225911Z
UID:2055-1716022800-1716030000@poelling.bayern
SUMMARY:Internationales Frauenfrühstück
DESCRIPTION:
URL:https://poelling.bayern/kalender/internationales-frauenfruehstueck-4/
LOCATION:Bürgerzentrum in der alten Schule\, St.-Martin-Straße 9\, Pölling\, 92318\, Deutschland
ORGANIZER;CN="B%C3%BCrgerzentrum in der alten Schule":MAILTO:Anna.Lehrer@neumarkt.de
END:VEVENT
BEGIN:VEVENT
DTSTART;TZID=Europe/Berlin:20240525T183000
DTEND;TZID=Europe/Berlin:20240525T193000
DTSTAMP:20260420T170615
CREATED:20240223T230154Z
LAST-MODIFIED:20240223T230154Z
UID:2057-1716661800-1716665400@poelling.bayern
SUMMARY:Messe für Verstorbene der FF Pölling
DESCRIPTION:
URL:https://poelling.bayern/kalender/messe-fuer-verstorbene-der-ff-poelling/
LOCATION:Kirche St. Martin\, Pölling\, St.-Martin-Straße 10\, Pölling\, 92318\, Deutschland
END:VEVENT
BEGIN:VEVENT
DTSTART;TZID=Europe/Berlin:20240526T150000
DTEND;TZID=Europe/Berlin:20240526T180000
DTSTAMP:20260420T170615
CREATED:20230907T150229Z
LAST-MODIFIED:20230907T150512Z
UID:1803-1716735600-1716746400@poelling.bayern
SUMMARY:Tanzkaffee
DESCRIPTION:Der Heimat- und Kulturverein Pölling lädt jeden letzten Sonntag im Monat ein zum Tanz (ohne August und Dezember). Für die Live-Musik sorgt Erwin Radschinsky mit seinem großen Repertoire an Musik. Alle\, die schon lange einmal wieder das Tanzbein schwingen wollten\, sind herzlich eingeladen. Beginn ist um 15 Uhr\, Eintritt kostet 5 Euro.
URL:https://poelling.bayern/kalender/tanzkaffee-7/
LOCATION:Bürgerzentrum in der alten Schule\, St.-Martin-Straße 9\, Pölling\, 92318\, Deutschland
ORGANIZER;CN="Heimat- und Kulturverein":MAILTO:richard_graf@gmx.de
END:VEVENT
BEGIN:VEVENT
DTSTART;TZID=Europe/Berlin:20240530T083000
DTEND;TZID=Europe/Berlin:20240530T110000
DTSTAMP:20260420T170615
CREATED:20240223T230417Z
LAST-MODIFIED:20240223T230417Z
UID:2059-1717057800-1717066800@poelling.bayern
SUMMARY:Fronleichnam
DESCRIPTION:
URL:https://poelling.bayern/kalender/fronleichnam/
LOCATION:Kirche St. Martin\, Pölling\, St.-Martin-Straße 10\, Pölling\, 92318\, Deutschland
END:VEVENT
END:VCALENDAR