BEGIN:VCALENDAR
VERSION:2.0
PRODID:-//Pölling - ECPv6.15.14//NONSGML v1.0//EN
CALSCALE:GREGORIAN
METHOD:PUBLISH
X-WR-CALNAME:Pölling
X-ORIGINAL-URL:https://poelling.bayern
X-WR-CALDESC:Veranstaltungen für Pölling
REFRESH-INTERVAL;VALUE=DURATION:PT1H
X-Robots-Tag:noindex
X-PUBLISHED-TTL:PT1H
BEGIN:VTIMEZONE
TZID:Europe/Berlin
BEGIN:DAYLIGHT
TZOFFSETFROM:+0100
TZOFFSETTO:+0200
TZNAME:CEST
DTSTART:20230326T010000
END:DAYLIGHT
BEGIN:STANDARD
TZOFFSETFROM:+0200
TZOFFSETTO:+0100
TZNAME:CET
DTSTART:20231029T010000
END:STANDARD
BEGIN:DAYLIGHT
TZOFFSETFROM:+0100
TZOFFSETTO:+0200
TZNAME:CEST
DTSTART:20240331T010000
END:DAYLIGHT
BEGIN:STANDARD
TZOFFSETFROM:+0200
TZOFFSETTO:+0100
TZNAME:CET
DTSTART:20241027T010000
END:STANDARD
BEGIN:DAYLIGHT
TZOFFSETFROM:+0100
TZOFFSETTO:+0200
TZNAME:CEST
DTSTART:20250330T010000
END:DAYLIGHT
BEGIN:STANDARD
TZOFFSETFROM:+0200
TZOFFSETTO:+0100
TZNAME:CET
DTSTART:20251026T010000
END:STANDARD
END:VTIMEZONE
BEGIN:VEVENT
DTSTART;VALUE=DATE:20241130
DTEND;VALUE=DATE:20241202
DTSTAMP:20260420T045317
CREATED:20240224T015725Z
LAST-MODIFIED:20240224T015725Z
UID:2131-1732924800-1733097599@poelling.bayern
SUMMARY:reserviert für Weihnachtsmarkt / lebendiger Advent
DESCRIPTION:Wir arbeiten noch an einem neuen Konzept\, lasst Euch überraschen !
URL:https://poelling.bayern/kalender/reserviert-fuer-weihnachtsmarkt-lebendiger-advent/
LOCATION:Bürgerzentrum in der alten Schule\, St.-Martin-Straße 9\, Pölling\, 92318\, Deutschland
ORGANIZER;CN="Heimat- und Kulturverein":MAILTO:richard_graf@gmx.de
END:VEVENT
BEGIN:VEVENT
DTSTART;TZID=Europe/Berlin:20241207T140000
DTEND;TZID=Europe/Berlin:20241207T140000
DTSTAMP:20260420T045317
CREATED:20240224T020849Z
LAST-MODIFIED:20240224T020849Z
UID:2135-1733580000-1733580000@poelling.bayern
SUMMARY:Weihnachtsmarkt Holzheim
DESCRIPTION:
URL:https://poelling.bayern/kalender/weihnachtsmarkt-holzheim/
LOCATION:Grundschule Holzheim\, Holzheim\, 92318
END:VEVENT
BEGIN:VEVENT
DTSTART;TZID=Europe/Berlin:20241209T183000
DTEND;TZID=Europe/Berlin:20241209T190000
DTSTAMP:20260420T045317
CREATED:20240224T021449Z
LAST-MODIFIED:20240224T021449Z
UID:2140-1733769000-1733770800@poelling.bayern
SUMMARY:Gottesdienst zum Festtag "Maria Empfängnis"
DESCRIPTION:
URL:https://poelling.bayern/kalender/gottesdienst-zum-festtag-maria-empfaengnis/
LOCATION:Hofkirche Neumarkt\, Neumarkt\, 92318\, Deutschland
END:VEVENT
BEGIN:VEVENT
DTSTART;TZID=Europe/Berlin:20241213T000000
DTEND;TZID=Europe/Berlin:20241213T000000
DTSTAMP:20260420T045317
CREATED:20240224T021801Z
LAST-MODIFIED:20240224T021825Z
UID:2143-1734048000-1734048000@poelling.bayern
SUMMARY:Weihnachtsfeier OGV Rittershof
DESCRIPTION:
URL:https://poelling.bayern/kalender/weihnachtsfeier-ogv-rittershof/
LOCATION:Gasthaus Hiereth\, Woffenbach\, Schloßstraße 43\, neumarkt\, 92318\, Deutschland
END:VEVENT
END:VCALENDAR