BEGIN:VCALENDAR
VERSION:2.0
PRODID:-//Pölling - ECPv6.15.14//NONSGML v1.0//EN
CALSCALE:GREGORIAN
METHOD:PUBLISH
X-ORIGINAL-URL:https://poelling.bayern
X-WR-CALDESC:Veranstaltungen für Pölling
REFRESH-INTERVAL;VALUE=DURATION:PT1H
X-Robots-Tag:noindex
X-PUBLISHED-TTL:PT1H
BEGIN:VTIMEZONE
TZID:Europe/Berlin
BEGIN:DAYLIGHT
TZOFFSETFROM:+0100
TZOFFSETTO:+0200
TZNAME:CEST
DTSTART:20240331T010000
END:DAYLIGHT
BEGIN:STANDARD
TZOFFSETFROM:+0200
TZOFFSETTO:+0100
TZNAME:CET
DTSTART:20241027T010000
END:STANDARD
BEGIN:DAYLIGHT
TZOFFSETFROM:+0100
TZOFFSETTO:+0200
TZNAME:CEST
DTSTART:20250330T010000
END:DAYLIGHT
BEGIN:STANDARD
TZOFFSETFROM:+0200
TZOFFSETTO:+0100
TZNAME:CET
DTSTART:20251026T010000
END:STANDARD
BEGIN:DAYLIGHT
TZOFFSETFROM:+0100
TZOFFSETTO:+0200
TZNAME:CEST
DTSTART:20260329T010000
END:DAYLIGHT
BEGIN:STANDARD
TZOFFSETFROM:+0200
TZOFFSETTO:+0100
TZNAME:CET
DTSTART:20261025T010000
END:STANDARD
END:VTIMEZONE
BEGIN:VEVENT
DTSTART;TZID=Europe/Berlin:20250412T180000
DTEND;TZID=Europe/Berlin:20250412T220000
DTSTAMP:20260419T215324
CREATED:20250211T184019Z
LAST-MODIFIED:20250211T184019Z
UID:2353-1744480800-1744495200@poelling.bayern
SUMMARY:JHV des Flugsportvereins Neumarkt
DESCRIPTION:Einladung mit Agenda wird per Post zugestellt
URL:https://poelling.bayern/kalender/jhv-des-flugsportvereins-neumarkt/
LOCATION:Bürgerzentrum in der alten Schule\, St.-Martin-Straße 9\, Pölling\, 92318\, Deutschland
ORGANIZER;CN="Flugsportvereinigung Neumart":MAILTO:info@flugsport-neumarkt.de
END:VEVENT
BEGIN:VEVENT
DTSTART;TZID=Europe/Berlin:20250427T150000
DTEND;TZID=Europe/Berlin:20250427T180000
DTSTAMP:20260419T215324
CREATED:20250131T161105Z
LAST-MODIFIED:20250131T161105Z
UID:2283-1745766000-1745776800@poelling.bayern
SUMMARY:Tanzkaffee
DESCRIPTION:Der Heimat- und Kulturverein Pölling lädt jeden letzten Sonntag im Monat ein zum Tanz (ohne August und Dezember). Gelegentlich müssen wir auf übergeordnete Veranstaltungen reagieren und den Termin anpassen.\nFür die Live-Musik sorgt Erwin Radschinsky mit seinem großen Repertoire an Musik. Alle\, die schon lange einmal wieder das Tanzbein schwingen wollten\, sind herzlich eingeladen.\nBeginn ist um 15 Uhr\, Eintritt kostet 5 Euro.
URL:https://poelling.bayern/kalender/tanzkaffee-13/
LOCATION:Bürgerzentrum in der alten Schule\, St.-Martin-Straße 9\, Pölling\, 92318\, Deutschland
ORGANIZER;CN="Heimat- und Kulturverein":MAILTO:richard_graf@gmx.de
END:VEVENT
BEGIN:VEVENT
DTSTART;TZID=Europe/Berlin:20250430T200000
DTEND;TZID=Europe/Berlin:20250430T200000
DTSTAMP:20260419T215324
CREATED:20250203T215911Z
LAST-MODIFIED:20250418T195517Z
UID:2314-1746043200-1746043200@poelling.bayern
SUMMARY:Frühjahrskonzert der Blaskapelle Pölling
DESCRIPTION:Details folgen \nTermine
URL:https://poelling.bayern/kalender/fruehjahrskonzert-der-blaskapelle-poelling-3/
LOCATION:Reitstadel\, Residenzplatz 3\, Neumarkt\, 92318\, Deutschland
ORGANIZER;CN="Blaskapelle P%C3%B6lling":MAILTO:info@blaskapelle-poelling.de
END:VEVENT
END:VCALENDAR