BEGIN:VCALENDAR
VERSION:2.0
PRODID:-//Pölling - ECPv6.15.14//NONSGML v1.0//EN
CALSCALE:GREGORIAN
METHOD:PUBLISH
X-ORIGINAL-URL:https://poelling.bayern
X-WR-CALDESC:Veranstaltungen für Pölling
REFRESH-INTERVAL;VALUE=DURATION:PT1H
X-Robots-Tag:noindex
X-PUBLISHED-TTL:PT1H
BEGIN:VTIMEZONE
TZID:Europe/Berlin
BEGIN:DAYLIGHT
TZOFFSETFROM:+0100
TZOFFSETTO:+0200
TZNAME:CEST
DTSTART:20220327T010000
END:DAYLIGHT
BEGIN:STANDARD
TZOFFSETFROM:+0200
TZOFFSETTO:+0100
TZNAME:CET
DTSTART:20221030T010000
END:STANDARD
BEGIN:DAYLIGHT
TZOFFSETFROM:+0100
TZOFFSETTO:+0200
TZNAME:CEST
DTSTART:20230326T010000
END:DAYLIGHT
BEGIN:STANDARD
TZOFFSETFROM:+0200
TZOFFSETTO:+0100
TZNAME:CET
DTSTART:20231029T010000
END:STANDARD
BEGIN:DAYLIGHT
TZOFFSETFROM:+0100
TZOFFSETTO:+0200
TZNAME:CEST
DTSTART:20240331T010000
END:DAYLIGHT
BEGIN:STANDARD
TZOFFSETFROM:+0200
TZOFFSETTO:+0100
TZNAME:CET
DTSTART:20241027T010000
END:STANDARD
END:VTIMEZONE
BEGIN:VEVENT
DTSTART;TZID=Europe/Berlin:20230319T150000
DTEND;TZID=Europe/Berlin:20230319T180000
DTSTAMP:20260425T124918
CREATED:20230226T223536Z
LAST-MODIFIED:20230306T202218Z
UID:1394-1679238000-1679248800@poelling.bayern
SUMMARY:"Frühlingsanfang in Pölling" Musikalischer Nachmittag mit Kaffee und Kuchen
DESCRIPTION:Bei Kaffee\, Kuchen und vielen Gesprächen bieten vier sehr unterschiedliche Gruppen musikalische Unterhaltung an. \nDie vier Gruppen/Künstler sind: \n„Ramsy“\, Johannes Ramsauer\, mit Indie Rock \nDie 3 Zsammgwürfelten\, Franziska\, Rosi\, Heidi \nGeige und Piano\, Swetlana und Sasha (Ukraine) \nVeeh-Harfen Orchester Neumarkt \nDer Eintritt ist frei – Spenden sind erlaubt
URL:https://poelling.bayern/kalender/poelling-erwacht-musik-kaffee-kuchen/
LOCATION:Bürgerzentrum in der alten Schule\, St.-Martin-Straße 9\, Pölling\, 92318\, Deutschland
ATTACH;FMTTYPE=application/pdf:https://poelling.bayern/wp-content/uploads/2023/02/Einladung-zu-Poelling-Erwacht.pdf
ORGANIZER;CN="Heimat- und Kulturverein":MAILTO:richard_graf@gmx.de
END:VEVENT
END:VCALENDAR