BEGIN:VCALENDAR
VERSION:2.0
PRODID:-//Pölling - ECPv6.15.14//NONSGML v1.0//EN
CALSCALE:GREGORIAN
METHOD:PUBLISH
X-ORIGINAL-URL:https://poelling.bayern
X-WR-CALDESC:Veranstaltungen für Pölling
REFRESH-INTERVAL;VALUE=DURATION:PT1H
X-Robots-Tag:noindex
X-PUBLISHED-TTL:PT1H
BEGIN:VTIMEZONE
TZID:Europe/Berlin
BEGIN:DAYLIGHT
TZOFFSETFROM:+0100
TZOFFSETTO:+0200
TZNAME:CEST
DTSTART:20220327T010000
END:DAYLIGHT
BEGIN:STANDARD
TZOFFSETFROM:+0200
TZOFFSETTO:+0100
TZNAME:CET
DTSTART:20221030T010000
END:STANDARD
BEGIN:DAYLIGHT
TZOFFSETFROM:+0100
TZOFFSETTO:+0200
TZNAME:CEST
DTSTART:20230326T010000
END:DAYLIGHT
BEGIN:STANDARD
TZOFFSETFROM:+0200
TZOFFSETTO:+0100
TZNAME:CET
DTSTART:20231029T010000
END:STANDARD
BEGIN:DAYLIGHT
TZOFFSETFROM:+0100
TZOFFSETTO:+0200
TZNAME:CEST
DTSTART:20240331T010000
END:DAYLIGHT
BEGIN:STANDARD
TZOFFSETFROM:+0200
TZOFFSETTO:+0100
TZNAME:CET
DTSTART:20241027T010000
END:STANDARD
END:VTIMEZONE
BEGIN:VEVENT
DTSTART;TZID=Europe/Berlin:20230518T090000
DTEND;TZID=Europe/Berlin:20230518T233000
DTSTAMP:20260420T223851
CREATED:20230227T010819Z
LAST-MODIFIED:20230508T102230Z
UID:1435-1684400400-1684452600@poelling.bayern
SUMMARY:Hof- und Oldtimer-Fest
DESCRIPTION:ab 9:00 Uhr  Hof- und Oldtimer-Frühschoppen \nab 9:30 Uhr Eintreffen der Oldtimerfreunde \nca. 14:00 Uhr kleine Rundfahrt mit den Oldtimern \nEs gibt: \nHolzschnitzarbeiten\, Skulpturen aus Metallschrott\, Hüpfburg\, Essen und Trinken\, Urkunden für Teilnehmer\, ivm …
URL:https://poelling.bayern/kalender/hof-und-oldtimer-fest/
LOCATION:Brix\, Münchhof\, Münchshof 5\, Pölling\, 92318\, Deutschland
ATTACH;FMTTYPE=application/pdf:https://poelling.bayern/wp-content/uploads/2023/02/Plakat_DINA2.pdf
ORGANIZER;CN="Erwin Bix":MAILTO:erwin.brix@t-online.de
END:VEVENT
END:VCALENDAR